BEGIN:VCALENDAR
VERSION:2.0
PRODID:-//Sabre//Sabre VObject 4.5.8//EN
CALSCALE:GREGORIAN
LAST-MODIFIED:20230907T150717Z
BEGIN:VTIMEZONE
TZID:America/New_York
X-MICROSOFT-CDO-TZID:10
BEGIN:STANDARD
DTSTART:20221106T060000
TZOFFSETFROM:-0400
TZOFFSETTO:-0500
TZNAME:EST
END:STANDARD
BEGIN:STANDARD
DTSTART:20231105T060000
TZOFFSETFROM:-0400
TZOFFSETTO:-0500
TZNAME:EST
END:STANDARD
BEGIN:DAYLIGHT
DTSTART:20230312T070000
TZOFFSETFROM:-0500
TZOFFSETTO:-0400
TZNAME:EDT
END:DAYLIGHT
END:VTIMEZONE
BEGIN:VEVENT
UID:ece91161-dffa-4272-a3c3-316c770e964c
DTSTAMP:20230907T150717Z
SUMMARY:WoT Main
DTSTART;TZID=America/New_York:20230913T080000
DTEND;TZID=America/New_York:20230913T090000
DESCRIPTION:https://www.w3.org/events/meetings/ece91161-dffa-4272-a3c3-316c
 770e964c/20230913T080000/\n\nCancelled due to TPAC \nThe [Main WoT Web Con
 ference](https://www.w3.org/WoT/IG/wiki/Main_WoT_WebConf) is a joint IG/WG
  call for discussing general WoT IG and WG topics and logistics\, and to p
 rovide an opportunity to summarize and coordinate the activities of the va
 rious task forces. For information on individual task forces\, please see 
 the [WoT Web Page](https://www.w3.org/WoT/) or look at the other WoT sched
 ule entries.
STATUS:CANCELLED
CREATED:20230906T204946Z
LAST-MODIFIED:20230907T150717Z
SEQUENCE:3
ORGANIZER;CN=W3C Calendar;PARTSTAT=ACCEPTED;ROLE=NON-PARTICIPANT:mailto:nor
 eply@w3.org
ATTENDEE;CUTYPE=GROUP;ROLE=OPT-PARTICIPANT;RSVP=FALSE;CN=Web of Things Inte
 rest Group:mailto:public-wot-ig@w3.org
ATTENDEE;CUTYPE=GROUP;ROLE=OPT-PARTICIPANT;RSVP=FALSE;CN=Web of Things Work
 ing Group:mailto:public-wot-wg@w3.org
LOCATION:Zoom
RECURRENCE-ID;TZID=America/New_York:20230913T080000
END:VEVENT
END:VCALENDAR
