BEGIN:VCALENDAR
VERSION:2.0
PRODID:-//Sabre//Sabre VObject 4.5.8//EN
CALSCALE:GREGORIAN
LAST-MODIFIED:20220707T200954Z
BEGIN:VTIMEZONE
TZID:Europe/Paris
X-MICROSOFT-CDO-TZID:3
BEGIN:STANDARD
DTSTART:20211031T010000
TZOFFSETFROM:+0200
TZOFFSETTO:+0100
TZNAME:CET
END:STANDARD
BEGIN:STANDARD
DTSTART:20221030T010000
TZOFFSETFROM:+0200
TZOFFSETTO:+0100
TZNAME:CET
END:STANDARD
BEGIN:DAYLIGHT
DTSTART:20220327T010000
TZOFFSETFROM:+0100
TZOFFSETTO:+0200
TZNAME:CEST
END:DAYLIGHT
END:VTIMEZONE
BEGIN:VEVENT
UID:ecd8ced6-6d03-4577-b312-6deb8ccf5611
DTSTAMP:20220707T200954Z
SUMMARY:Extra MathML4 meeting
DTSTART;TZID=Europe/Paris:20220708T183000
DTEND;TZID=Europe/Paris:20220708T193000
DESCRIPTION:https://www.w3.org/events/meetings/ecd8ced6-6d03-4577-b312-6deb
 8ccf5611/\n\n\n\nAgenda: https://cryptpad.fr/code/#/2/code/edit/gmibUJ0WEH
 OC7HyymBX6oDqh/
STATUS:CONFIRMED
CREATED:20220707T200740Z
LAST-MODIFIED:20220707T200954Z
SEQUENCE:1
ORGANIZER;CN=W3C Calendar;PARTSTAT=ACCEPTED;ROLE=NON-PARTICIPANT:mailto:nor
 eply@w3.org
ATTENDEE;CUTYPE=GROUP;ROLE=OPT-PARTICIPANT;RSVP=FALSE;CN=Math Working Group
 :mailto:www-math@w3.org
END:VEVENT
END:VCALENDAR
