BEGIN:VCALENDAR
VERSION:2.0
PRODID:-//Sabre//Sabre VObject 4.5.8//EN
CALSCALE:GREGORIAN
LAST-MODIFIED:20210820T041124Z
BEGIN:VTIMEZONE
TZID:Asia/Tokyo
X-MICROSOFT-CDO-TZID:20
BEGIN:STANDARD
DTSTART:20200825T000000
TZOFFSETFROM:+0900
TZOFFSETTO:+0900
TZNAME:JST
END:STANDARD
END:VTIMEZONE
BEGIN:VEVENT
UID:ecb4fdfa-359b-4e2e-b8c9-047fb0addc66
DTSTAMP:20210820T041124Z
SUMMARY:EPUB 3 Working Group Meeting
DTSTART;TZID=Asia/Tokyo:20210820T090000
DTEND;TZID=Asia/Tokyo:20210820T100000
DESCRIPTION:https://www.w3.org/events/meetings/ecb4fdfa-359b-4e2e-b8c9-047f
 b0addc66/20210820T090000/\n\nThe EPUB 3 Working Group is developing the la
 test version of the EPUB 3 specification\, EPUB 3.3. This group meets week
 ly to discuss issues and developments relating to the specification and th
 e publishing industry. We meet at alternating times weekly.\n\nAgenda: htt
 ps://lists.w3.org/Archives/Public/public-epub-wg/2021Aug/0021.html\n\nAgen
 da\n\nTopic (time)\n1-Calendar Updates [1] (5 min)\n2-How do we handle the
  vocabulary items in Appendix D? [2] (30 min)\n3-Landmarks Nav [3] (20 min
 )\n\nLinks:\n\n[1] https://www.w3.org/groups/wg/epub/calendar \n[2] https:
 //w3c.github.io/epub-specs/epub33/core/#app-vocabs \n[3] https://github.co
 m/w3c/epub-specs/issues/1761
STATUS:CONFIRMED
CREATED:20210819T044509Z
LAST-MODIFIED:20210820T041124Z
SEQUENCE:2
ORGANIZER;CN=W3C Calendar;PARTSTAT=ACCEPTED;ROLE=NON-PARTICIPANT:mailto:nor
 eply@w3.org
ATTENDEE;CUTYPE=GROUP;ROLE=OPT-PARTICIPANT;RSVP=FALSE;CN=EPUB 3 Working Gro
 up:mailto:public-epub-wg@w3.org
RECURRENCE-ID;TZID=Asia/Tokyo:20210820T090000
END:VEVENT
END:VCALENDAR
