BEGIN:VCALENDAR
VERSION:2.0
PRODID:-//Sabre//Sabre VObject 4.5.8//EN
CALSCALE:GREGORIAN
LAST-MODIFIED:20240926T174121Z
BEGIN:VTIMEZONE
TZID:America/Los_Angeles
X-MICROSOFT-CDO-TZID:13
BEGIN:STANDARD
DTSTART:20231105T090000
TZOFFSETFROM:-0700
TZOFFSETTO:-0800
TZNAME:PST
END:STANDARD
BEGIN:STANDARD
DTSTART:20241103T090000
TZOFFSETFROM:-0700
TZOFFSETTO:-0800
TZNAME:PST
END:STANDARD
BEGIN:DAYLIGHT
DTSTART:20240310T100000
TZOFFSETFROM:-0800
TZOFFSETTO:-0700
TZNAME:PDT
END:DAYLIGHT
END:VTIMEZONE
BEGIN:VEVENT
UID:ec0c949e-8a42-4e27-a869-505f07c6638a
DTSTAMP:20240926T174121Z
SUMMARY:Accessible Platform Architectures Working Group\, WHATWG Joint Meet
 ing
DTSTART;TZID=America/Los_Angeles:20240926T110000
DTEND;TZID=America/Los_Angeles:20240926T123000
DESCRIPTION:https://www.w3.org/events/meetings/ec0c949e-8a42-4e27-a869-505f
 07c6638a/\n\n\n\nAgenda: https://github.com/whatwg/meta/issues/326\n\nAgen
 da\n\nWe have two main topics to discuss\, both regarding WAI-Adapt TF's w
 ork...\n\n* [Symbols](https://github.com/w3c/adapt/blob/add-explainers/exp
 lainers/symbols.md) - we would like to address present technical questions
 /blocks regarding authoring considerations.\n\n* [Well-known destinations]
 (https://github.com/w3c/adapt/blob/add-explainers/explainers/well-known-de
 stinations.md) - we would like your views on the best way to proceed with 
 this spec: we currently have two potential routes to implementation.
STATUS:CONFIRMED
CREATED:20240614T163349Z
LAST-MODIFIED:20240926T174121Z
SEQUENCE:5
ORGANIZER;CN=W3C Calendar;PARTSTAT=ACCEPTED;ROLE=NON-PARTICIPANT:mailto:nor
 eply@w3.org
ATTENDEE;CUTYPE=GROUP;ROLE=OPT-PARTICIPANT;RSVP=FALSE;CN=Accessible Platfor
 m Architectures Working Group:mailto:public-apa@w3.org
LOCATION:4 Concourse Level - Redondo
CATEGORIES:TPAC 2024,Group Meetings
END:VEVENT
END:VCALENDAR
