BEGIN:VCALENDAR
VERSION:2.0
PRODID:-//Sabre//Sabre VObject 4.5.8//EN
CALSCALE:GREGORIAN
LAST-MODIFIED:20260218T183818Z
BEGIN:VTIMEZONE
TZID:Asia/Tokyo
X-MICROSOFT-CDO-TZID:20
BEGIN:STANDARD
DTSTART:20241117T083000
TZOFFSETFROM:+0900
TZOFFSETTO:+0900
TZNAME:JST
END:STANDARD
END:VTIMEZONE
BEGIN:VEVENT
UID:eb94259d-9fb9-4136-8de9-15f582d84014
DTSTAMP:20260218T183818Z
SUMMARY:Defining a new Locale: Standard Measures with U.S. English
DTSTART;TZID=Asia/Tokyo:20251112T173000
DTEND;TZID=Asia/Tokyo:20251112T183000
DESCRIPTION:https://www.w3.org/events/meetings/eb94259d-9fb9-4136-8de9-15f5
 82d84014/\n\nUsers who don't have a strong connection to U.S. measurement\
 , date formatting\, and other similar conventions use software with U.S. E
 nglish as the UI language. This is a problem when the users\, for example\
 , don't want to see temperatures in Fahrenheit or accidentally book ticket
 s or accommodation for the wrong days due to site-supplied date pickers (a
 s opposed to browser-provided `<input type=date>`) putting Sunday in the f
 irst column when presenting a month as a grid.\n\nWe believe this problem 
 can be addressed by the browser prepending a language tag with a special r
 egion code (provisionally `en-ZZ`\, "English of Unknown Region") to the la
 nguage preference list when `en-US` would otherwise be the first item on t
 he list and the browser determines that standard measures would work bette
 r for the user.\n\nFor more information\, please see our [explainer](https
 ://github.com/mozilla/explainers/blob/main/standard-measures-en-us.md).\n\
 nThe proposal has previously also been [presented and discussed](https://g
 ithub.com/tc39/ecma402/blob/main/meetings/notes-2025-09-11.md#standard-mea
 sures-with-us-english) at TC39 TG2.\n\nPossible session co-chair (if regis
 tered for TPAC): @hsivonen\n\n**Goal(s):**\nDiscussion of the proposal and
  exploration of potential issues that need resolution.\n\nAgenda\n\n**Mate
 rials:**\n- [Session proposal on GitHub](https://github.com/w3c/tpac2025-b
 reakouts/issues/71)
STATUS:CONFIRMED
CREATED:20251028T131621Z
LAST-MODIFIED:20260218T183818Z
SEQUENCE:4
ORGANIZER;CN=W3C Calendar;PARTSTAT=ACCEPTED;ROLE=NON-PARTICIPANT:mailto:nor
 eply@w3.org
LOCATION:Floor 4 - 403
CATEGORIES:TPAC 2025,Breakout Sessions
END:VEVENT
END:VCALENDAR
