BEGIN:VCALENDAR
VERSION:2.0
PRODID:-//Sabre//Sabre VObject 4.5.8//EN
CALSCALE:GREGORIAN
LAST-MODIFIED:20260219T063600Z
BEGIN:VTIMEZONE
TZID:Asia/Tokyo
X-MICROSOFT-CDO-TZID:20
BEGIN:STANDARD
DTSTART:20241117T021500
TZOFFSETFROM:+0900
TZOFFSETTO:+0900
TZNAME:JST
END:STANDARD
END:VTIMEZONE
BEGIN:VEVENT
UID:eb45163d-e184-4ace-b7e3-900816a75c36
DTSTAMP:20260219T063600Z
SUMMARY:Introducing the Cybernetic Avatar Community Group: Extending Human 
 Presence through the Internet
DTSTART;TZID=Asia/Tokyo:20251112T111500
DTEND;TZID=Asia/Tokyo:20251112T121500
DESCRIPTION:https://www.w3.org/events/meetings/eb45163d-e184-4ace-b7e3-9008
 16a75c36/\n\nThe Cybernetic Avatar is a concept of a networked embodiment 
 that digitally extends and transmits human physical\, perceptual\, and cog
 nitive capabilities through the Internet.\n\nIt envisions a world where pe
 ople can project their presence\, perception\, and action beyond the limit
 s of body\, space\, and time by connecting to digital or robotic embodimen
 ts.\nThis breakout session will share the current vision and motivation be
 hind the emerging Cybernetic Avatar Community Group (currently in formatio
 n).\n\nWe aim to discuss how the concept of the Cybernetic Avatar could re
 late to existing or future Web standards\, and how the W3C community might
  help define its role within the broader Internet ecosystem.\nTogether\, w
 e will consider how human embodiment\, communication\, and agency may evol
 ve through connected systems\, and how open\, ethical\, and inclusive fram
 eworks could support this transformation.\n\nWe are currently in the proce
 ss of forming the Cybernetic Avatar Community Group\, and this session ser
 ves as an open discussion for anyone interested — please join us!\n(The 
 introductory video for the Cybernetic Avatar initiative is available here.
  - https://www.youtube.com/watch?v=u0NjMfUod10)\n\n**Goal(s):**\nIntroduct
 ion and discussion\n\nAgenda\n\n- Introduction to the Cybernetic Avatar co
 ncept and vision\n- Sharing background and current initiatives\n- Open dis
 cussion on potential relevance to the Web and Internet ecosystems\n\n**Mat
 erials:**\n- [Session proposal on GitHub](https://github.com/w3c/tpac2025-
 breakouts/issues/49)
STATUS:CONFIRMED
CREATED:20251028T131300Z
LAST-MODIFIED:20260219T063600Z
SEQUENCE:4
ORGANIZER;CN=W3C Calendar;PARTSTAT=ACCEPTED;ROLE=NON-PARTICIPANT:mailto:nor
 eply@w3.org
LOCATION:Floor 3 - 302
CATEGORIES:TPAC 2025,Breakout Sessions
END:VEVENT
END:VCALENDAR
