BEGIN:VCALENDAR
VERSION:2.0
PRODID:-//Sabre//Sabre VObject 4.5.8//EN
CALSCALE:GREGORIAN
LAST-MODIFIED:20231025T073355Z
BEGIN:VTIMEZONE
TZID:America/New_York
X-MICROSOFT-CDO-TZID:10
BEGIN:STANDARD
DTSTART:20221106T060000
TZOFFSETFROM:-0400
TZOFFSETTO:-0500
TZNAME:EST
END:STANDARD
BEGIN:STANDARD
DTSTART:20231105T060000
TZOFFSETFROM:-0400
TZOFFSETTO:-0500
TZNAME:EST
END:STANDARD
BEGIN:DAYLIGHT
DTSTART:20230312T070000
TZOFFSETFROM:-0500
TZOFFSETTO:-0400
TZNAME:EDT
END:DAYLIGHT
END:VTIMEZONE
BEGIN:VEVENT
UID:eaf86734-c2f9-410e-86b9-1cca18d0d6c9
DTSTAMP:20231025T073355Z
SUMMARY:VCWG Special Topic Call
DTSTART;TZID=America/New_York:20231024T180000
DTEND;TZID=America/New_York:20231024T190000
DESCRIPTION:https://www.w3.org/events/meetings/eaf86734-c2f9-410e-86b9-1cca
 18d0d6c9/20231024T180000/\n\nRegularly scheduled\, but not always held\, t
 hese meetings times are used to discuss any topics determined to be of spe
 cial interest to the working group.\n\nAgenda\n\nWe will have a brief conv
 ersation about controller documents [1]\n\nThen we will discuss our steps 
 forward on Google's pre-CR review of VCDM [2]\n\n[1] https://github.com/w3
 c/vc-data-model/issues/1307\n[2] https://github.com/w3c/vc-data-model/issu
 es/1285
STATUS:CONFIRMED
CREATED:20231023T204127Z
LAST-MODIFIED:20231025T073355Z
SEQUENCE:3
ORGANIZER;CN=W3C Calendar;PARTSTAT=ACCEPTED;ROLE=NON-PARTICIPANT:mailto:nor
 eply@w3.org
ATTENDEE;CUTYPE=GROUP;ROLE=OPT-PARTICIPANT;RSVP=FALSE;CN=Verifiable Credent
 ials Working Group:mailto:public-vc-wg@w3.org
RECURRENCE-ID;TZID=America/New_York:20231024T180000
END:VEVENT
END:VCALENDAR
