BEGIN:VCALENDAR
VERSION:2.0
PRODID:-//Sabre//Sabre VObject 4.5.8//EN
CALSCALE:GREGORIAN
LAST-MODIFIED:20251103T174901Z
BEGIN:VTIMEZONE
TZID:Asia/Tokyo
X-MICROSOFT-CDO-TZID:20
BEGIN:STANDARD
DTSTART:20241118T063000
TZOFFSETFROM:+0900
TZOFFSETTO:+0900
TZNAME:JST
END:STANDARD
END:VTIMEZONE
BEGIN:VEVENT
UID:eacafac9-4b59-40e4-950d-436729b6ba3d
DTSTAMP:20251103T174901Z
SUMMARY:Sustainable Web IG\, Accessibility Guidelines Working Group joint m
 eeting
DTSTART;TZID=Asia/Tokyo:20251113T153000
DTEND;TZID=Asia/Tokyo:20251113T164500
DESCRIPTION:https://www.w3.org/events/meetings/eacafac9-4b59-40e4-950d-4367
 29b6ba3d/\n\n\n\nAgenda\n\n* Introductions\n* Intro to WSG\n* Intro to WCA
 G 3\n  * Learnings from WCAG over the years\n  * Learnings that lead to WC
 AG 3\n* Applying learnings fromWCAG to WSG\n* Questions and discussion
STATUS:CONFIRMED
CREATED:20250716T142754Z
LAST-MODIFIED:20251103T174901Z
SEQUENCE:7
ORGANIZER;CN=W3C Calendar;PARTSTAT=ACCEPTED;ROLE=NON-PARTICIPANT:mailto:nor
 eply@w3.org
ATTENDEE;CUTYPE=GROUP;ROLE=OPT-PARTICIPANT;RSVP=FALSE;CN=Accessibility Guid
 elines Working Group:mailto:public-ag-admin@w3.org
ATTENDEE;CUTYPE=GROUP;ROLE=OPT-PARTICIPANT;RSVP=FALSE;CN=Sustainable Web In
 terest Group:mailto:public-sustainableweb@w3.org
LOCATION:Floor 4 - 404
CATEGORIES:TPAC 2025,Group Meetings
END:VEVENT
END:VCALENDAR
