BEGIN:VCALENDAR
VERSION:2.0
PRODID:-//Sabre//Sabre VObject 4.5.8//EN
CALSCALE:GREGORIAN
LAST-MODIFIED:20260127T101146Z
BEGIN:VTIMEZONE
TZID:Etc/UTC
BEGIN:STANDARD
DTSTART:20250125T160000
TZOFFSETFROM:+0000
TZOFFSETTO:+0000
TZNAME:UTC
END:STANDARD
END:VTIMEZONE
BEGIN:VEVENT
UID:eac95d38-f9e2-46fe-821c-af9fdc949509
DTSTAMP:20260127T101146Z
SUMMARY:WebRTC WG January 2026 call
DTSTART;TZID=Etc/UTC:20260120T160000
DTEND;TZID=Etc/UTC:20260120T180000
DESCRIPTION:https://www.w3.org/events/meetings/eac95d38-f9e2-46fe-821c-af9f
 dc949509/\n\n\n\nAgenda: https://www.w3.org/2011/04/webrtc/wiki/January_20
 _2026
STATUS:TENTATIVE
CREATED:20251127T094332Z
LAST-MODIFIED:20260127T101146Z
SEQUENCE:0
ORGANIZER;CN=W3C Calendar;PARTSTAT=ACCEPTED;ROLE=NON-PARTICIPANT:mailto:nor
 eply@w3.org
ATTENDEE;CUTYPE=GROUP;ROLE=OPT-PARTICIPANT;RSVP=FALSE;CN=Web Real-Time Comm
 unications Working Group:mailto:public-webrtc@w3.org
END:VEVENT
END:VCALENDAR
