BEGIN:VCALENDAR
VERSION:2.0
PRODID:-//Sabre//Sabre VObject 4.5.8//EN
CALSCALE:GREGORIAN
LAST-MODIFIED:20230517T074721Z
BEGIN:VTIMEZONE
TZID:Etc/UTC
BEGIN:STANDARD
DTSTART:20220521T150000
TZOFFSETFROM:+0000
TZOFFSETTO:+0000
TZNAME:UTC
END:STANDARD
END:VTIMEZONE
BEGIN:VEVENT
UID:ea45a96c-7e1c-4055-b6e4-4544e9fee39a
DTSTAMP:20230517T074721Z
SUMMARY:WebRTC WG May 2023 call
DTSTART;TZID=Etc/UTC:20230516T150000
DTEND;TZID=Etc/UTC:20230516T170000
DESCRIPTION:https://www.w3.org/events/meetings/ea45a96c-7e1c-4055-b6e4-4544
 e9fee39a/\n\n\n\nAgenda: https://www.w3.org/2011/04/webrtc/wiki/May_16_202
 3
STATUS:TENTATIVE
CREATED:20230103T081026Z
LAST-MODIFIED:20230517T074721Z
SEQUENCE:0
ORGANIZER;CN=W3C Calendar;PARTSTAT=ACCEPTED;ROLE=NON-PARTICIPANT:mailto:nor
 eply@w3.org
ATTENDEE;CUTYPE=GROUP;ROLE=OPT-PARTICIPANT;RSVP=FALSE;CN=Web Real-Time Comm
 unications Working Group:mailto:public-webrtc@w3.org
END:VEVENT
END:VCALENDAR
