BEGIN:VCALENDAR
VERSION:2.0
PRODID:-//Sabre//Sabre VObject 4.5.8//EN
CALSCALE:GREGORIAN
LAST-MODIFIED:20220914T145827Z
BEGIN:VTIMEZONE
TZID:America/Vancouver
BEGIN:STANDARD
DTSTART:20211107T090000
TZOFFSETFROM:-0700
TZOFFSETTO:-0800
TZNAME:PST
END:STANDARD
BEGIN:STANDARD
DTSTART:20221106T090000
TZOFFSETFROM:-0700
TZOFFSETTO:-0800
TZNAME:PST
END:STANDARD
BEGIN:DAYLIGHT
DTSTART:20220313T100000
TZOFFSETFROM:-0800
TZOFFSETTO:-0700
TZNAME:PDT
END:DAYLIGHT
END:VTIMEZONE
BEGIN:VEVENT
UID:e9c7d91e-674a-4328-9d19-37d2e969de60
DTSTAMP:20220914T145827Z
SUMMARY:Maximising Back/Forward Cache hit-rate
DTSTART;TZID=America/Vancouver:20220914T163000
DTEND;TZID=America/Vancouver:20220914T173000
DESCRIPTION:https://www.w3.org/events/meetings/e9c7d91e-674a-4328-9d19-37d2
 e969de60/\n\n[BFCache](https://web.dev/bfcache) provides a big performance
  win for navigation but there are obstacles to pages successfully being ca
 ched - Cache-Control: no-store header\, unload handlers\, in-the-wild tele
 metry for cache misses. This covers proposals for solving these.\n\nAgenda
 \n\n**Facilitators & speakers**: Fergal Daly\n\n**Session type**: presenta
 tion and open discussion\n\n**Summary**: [BFCache](https://web.dev/bfcache
 ) provides a big performance win for navigation but there are obstacles to
  pages successfully being cached - Cache-Control: no-store header\, unload
  handlers\, in-the-wild telemetry for cache misses. This covers proposals 
 for solving these.\n\n**Goals**:\n- Get feedback on proposals for [unload]
 (https://github.com/w3c/webappsec-permissions-policy/issues/444)\, [Cache-
 control: no-store](https://github.com/fergald/explainer-bfcache-ccns/) and
  [not-restored reasons](https://github.com/rubberyuzu/bfcache-not-retored-
 reason/blob/main/NotRestoredReason.md) and any other ideas to improve hit-
 rate.\n\n**Materials**:\n- [slides](https://docs.google.com/presentation/d
 /1Sj1OtX3r_ULsQVAz4hNeYsmx23wcqsgDN6DTc33VWMk/edit)\n\nJoining Instruction
 s: https://us02web.zoom.us/j/6548158906?pwd=MFNTK1NQRmI5S1oxYzZyKzdkaE5WZz
 09\n\nChat\n\nhttps://irc.w3.org/?channels=%23bfcache-hit-rate
STATUS:CONFIRMED
CREATED:20220909T111654Z
LAST-MODIFIED:20220914T145827Z
SEQUENCE:1
ORGANIZER;CN=W3C Calendar;PARTSTAT=ACCEPTED;ROLE=NON-PARTICIPANT:mailto:nor
 eply@w3.org
ATTENDEE;CN=Rakina Amni:mailto:rakina@google.com
ATTENDEE;CN=Jake Archibald:mailto:jarchibald@mozilla.com
ATTENDEE;CN=christin cai:mailto:christincai@tencent.com
ATTENDEE;CN=Domenic Denicola:mailto:d@domenic.me
ATTENDEE;CN=Randell Jesup:mailto:rjesup@mozilla.com
ATTENDEE;CN=Mingyu Lei:mailto:leimy@google.com
ATTENDEE;CN=Cameron McCormack:mailto:heycam@apple.com
ATTENDEE;CN=Sam Sneddon:mailto:gsnedders@apple.com
LOCATION:Port Hardy — North Tower 4th floor
CATEGORIES:TPAC 2022,Breakout Sessions
END:VEVENT
END:VCALENDAR
