BEGIN:VCALENDAR
VERSION:2.0
PRODID:-//Sabre//Sabre VObject 4.5.8//EN
CALSCALE:GREGORIAN
LAST-MODIFIED:20220720T081836Z
BEGIN:VTIMEZONE
TZID:Etc/UTC
BEGIN:STANDARD
DTSTART:20210724T150000
TZOFFSETFROM:+0000
TZOFFSETTO:+0000
TZNAME:UTC
END:STANDARD
END:VTIMEZONE
BEGIN:VEVENT
UID:e955426c-6631-4ddb-9f38-1f4f958b6b02
DTSTAMP:20220720T081836Z
SUMMARY:WebRTC WG July 2022 call
DTSTART;TZID=Etc/UTC:20220719T150000
DTEND;TZID=Etc/UTC:20220719T170000
DESCRIPTION:https://www.w3.org/events/meetings/e955426c-6631-4ddb-9f38-1f4f
 958b6b02/\n\n\n\nAgenda: https://www.w3.org/2011/04/webrtc/wiki/July_19_20
 22
STATUS:CONFIRMED
CREATED:20220427T120915Z
LAST-MODIFIED:20220720T081836Z
SEQUENCE:1
ORGANIZER;CN=W3C Calendar;PARTSTAT=ACCEPTED;ROLE=NON-PARTICIPANT:mailto:nor
 eply@w3.org
ATTENDEE;CUTYPE=GROUP;ROLE=OPT-PARTICIPANT;RSVP=FALSE;CN=Web Real-Time Comm
 unications Working Group:mailto:public-webrtc@w3.org
END:VEVENT
END:VCALENDAR
