BEGIN:VCALENDAR
VERSION:2.0
PRODID:-//Sabre//Sabre VObject 4.5.8//EN
CALSCALE:GREGORIAN
LAST-MODIFIED:20240531T154028Z
BEGIN:VTIMEZONE
TZID:Etc/UTC
BEGIN:STANDARD
DTSTART:20230606T150000
TZOFFSETFROM:+0000
TZOFFSETTO:+0000
TZNAME:UTC
END:STANDARD
END:VTIMEZONE
BEGIN:VEVENT
UID:e88ee097-09b2-45aa-a34b-24dce813288e
DTSTAMP:20240531T154028Z
SUMMARY:WebView CG Meeting
DTSTART;TZID=Etc/UTC:20240531T150000
DTEND;TZID=Etc/UTC:20240531T160000
DESCRIPTION:https://www.w3.org/events/meetings/e88ee097-09b2-45aa-a34b-24dc
 e813288e/\n\nRecurring CG meeting on a monthly basis.\n\nAgenda: https://b
 it.ly/wv-cg-31-may\n\nAgenda\n\nThree topics will be discusssed:\n* The Co
 mpat  Data Project aka caniwebview.com - Feedback on the new site and coll
 ecting&discussing data\n* The WebView survey - Please add your ideas for q
 uestions\, answers and audiences to [this repository](https://github.com/W
 ebView-CG/webview-survey).\n* Decide if we will have a meeting at [TPAC 20
 24](https://www.w3.org/2024/05/tpac2024-schedule-20240523.html)
STATUS:CONFIRMED
CREATED:20240521T120010Z
LAST-MODIFIED:20240531T154028Z
SEQUENCE:0
ORGANIZER;CN=W3C Calendar;PARTSTAT=ACCEPTED;ROLE=NON-PARTICIPANT:mailto:nor
 eply@w3.org
ATTENDEE;CUTYPE=GROUP;ROLE=OPT-PARTICIPANT;RSVP=FALSE;CN=WebView Community 
 Group:mailto:public-webview@w3.org
END:VEVENT
END:VCALENDAR
