BEGIN:VCALENDAR
VERSION:2.0
PRODID:-//Sabre//Sabre VObject 4.5.8//EN
CALSCALE:GREGORIAN
LAST-MODIFIED:20240927T000238Z
BEGIN:VTIMEZONE
TZID:America/Los_Angeles
X-MICROSOFT-CDO-TZID:13
BEGIN:STANDARD
DTSTART:20231105T090000
TZOFFSETFROM:-0700
TZOFFSETTO:-0800
TZNAME:PST
END:STANDARD
BEGIN:STANDARD
DTSTART:20241103T090000
TZOFFSETFROM:-0700
TZOFFSETTO:-0800
TZNAME:PST
END:STANDARD
BEGIN:DAYLIGHT
DTSTART:20240310T100000
TZOFFSETFROM:-0800
TZOFFSETTO:-0700
TZNAME:PDT
END:DAYLIGHT
END:VTIMEZONE
BEGIN:VEVENT
UID:e8613f4e-ce3a-4c95-8a01-0fb875473a99
DTSTAMP:20240927T000238Z
SUMMARY:Second Screen Working Group
DTSTART;TZID=America/Los_Angeles:20240927T110000
DTEND;TZID=America/Los_Angeles:20240927T180000
DESCRIPTION:https://www.w3.org/events/meetings/e8613f4e-ce3a-4c95-8a01-0fb8
 75473a99/\n\n\n\nAgenda: https://github.com/w3c/secondscreen-wg/issues/11
STATUS:CONFIRMED
CREATED:20240614T163335Z
LAST-MODIFIED:20240927T000238Z
SEQUENCE:11
ORGANIZER;CN=W3C Calendar;PARTSTAT=ACCEPTED;ROLE=NON-PARTICIPANT:mailto:nor
 eply@w3.org
ATTENDEE;CUTYPE=GROUP;ROLE=OPT-PARTICIPANT;RSVP=FALSE;CN=Second Screen Work
 ing Group:mailto:public-secondscreen@w3.org
LOCATION:-1 Lower Level - Catalina 5
CATEGORIES:TPAC 2024,Group Meetings
END:VEVENT
END:VCALENDAR
