BEGIN:VCALENDAR
VERSION:2.0
PRODID:-//Sabre//Sabre VObject 4.5.8//EN
CALSCALE:GREGORIAN
LAST-MODIFIED:20221114T213310Z
BEGIN:VTIMEZONE
TZID:America/New_York
X-MICROSOFT-CDO-TZID:10
BEGIN:DAYLIGHT
DTSTART:20220313T070000
TZOFFSETFROM:-0500
TZOFFSETTO:-0400
TZNAME:EDT
END:DAYLIGHT
BEGIN:DAYLIGHT
DTSTART:20230312T070000
TZOFFSETFROM:-0500
TZOFFSETTO:-0400
TZNAME:EDT
END:DAYLIGHT
BEGIN:STANDARD
DTSTART:20221106T060000
TZOFFSETFROM:-0400
TZOFFSETTO:-0500
TZNAME:EST
END:STANDARD
END:VTIMEZONE
BEGIN:VEVENT
UID:e7e1c3df-615f-48ac-8cf0-1a2c331f5e23
DTSTAMP:20221114T213310Z
SUMMARY:Web Fonts WG Call
DTSTART;TZID=America/New_York:20221115T120000
DTEND;TZID=America/New_York:20221115T130000
DESCRIPTION:https://www.w3.org/events/meetings/e7e1c3df-615f-48ac-8cf0-1a2c
 331f5e23/20221115T120000/\n\nHello WG\,\nLet's get back together tomorrow 
 (at our regularly scheduled time) to review recent changes and remaining /
  new issues.\n\nAgenda\n\n1. New members introduction\n2. Review recent IF
 T spec updates (PRs [#126](https://github.com/w3c/IFT/pull/126)\, [#128](h
 ttps://github.com/w3c/IFT/pull/128)\, [#130](https://github.com/w3c/IFT/pu
 ll/130) )\n3. Review [Open issues](https://github.com/w3c/IFT/issues)\n4. 
 AOB
STATUS:CONFIRMED
CREATED:20221114T213310Z
LAST-MODIFIED:20221114T213310Z
SEQUENCE:2
ORGANIZER;CN=W3C Calendar;PARTSTAT=ACCEPTED;ROLE=NON-PARTICIPANT:mailto:nor
 eply@w3.org
ATTENDEE;CUTYPE=GROUP;ROLE=OPT-PARTICIPANT;RSVP=FALSE;CN=Web Fonts Working 
 Group:mailto:public-webfonts-wg@w3.org
RECURRENCE-ID;TZID=America/New_York:20221115T120000
END:VEVENT
END:VCALENDAR
