BEGIN:VCALENDAR
VERSION:2.0
PRODID:-//Sabre//Sabre VObject 4.5.8//EN
CALSCALE:GREGORIAN
LAST-MODIFIED:20220815T154401Z
BEGIN:VTIMEZONE
TZID:America/New_York
X-MICROSOFT-CDO-TZID:10
BEGIN:STANDARD
DTSTART:20211107T060000
TZOFFSETFROM:-0400
TZOFFSETTO:-0500
TZNAME:EST
END:STANDARD
BEGIN:STANDARD
DTSTART:20221106T060000
TZOFFSETFROM:-0400
TZOFFSETTO:-0500
TZNAME:EST
END:STANDARD
BEGIN:DAYLIGHT
DTSTART:20220313T070000
TZOFFSETFROM:-0500
TZOFFSETTO:-0400
TZNAME:EDT
END:DAYLIGHT
END:VTIMEZONE
BEGIN:VEVENT
UID:e7e1c3df-615f-48ac-8cf0-1a2c331f5e23
DTSTAMP:20220815T154401Z
SUMMARY:Web Fonts WG Call
DTSTART;TZID=America/New_York:20220816T120000
DTEND;TZID=America/New_York:20220816T130000
DESCRIPTION:https://www.w3.org/events/meetings/e7e1c3df-615f-48ac-8cf0-1a2c
 331f5e23/20220816T120000/\n\nHello WG\,\nWe will have our scheduled WG Zoo
 m call tomorrow at a regular time. Please make every possible effort to at
 tend as we will be discussing many important topics including TPAC meeting
  agenda\, new proposed spec changes\, and the possible status change of th
 e "Range Request" portion of the recommendation.\n\nAgenda\n\n1. Revised a
 pproach to method negotiation - see [rationalle](https://docs.google.com/d
 ocument/d/1IcPg4o5k4OOmfLCfa1z2wQl6MD-kPBrahtcb4r-97ZU/edit?resourcekey=0-
 9WtXKj_y4uihiB7K740xMQ#)\n- Related: see CSS Fonts [issue #6892](https://g
 ithub.com/w3c/csswg-drafts/issues/6892)\n2. IFT [open issues](https://gith
 ub.com/w3c/IFT/issues)\n- special concern: a significant number of [unreso
 lved Range Request issues](https://github.com/w3c/IFT/labels/Range%20Reque
 st) \n3. TPAC agenda wrangling\n4. AOB
STATUS:CONFIRMED
CREATED:20220815T154401Z
LAST-MODIFIED:20220815T154401Z
SEQUENCE:2
ORGANIZER;CN=W3C Calendar;PARTSTAT=ACCEPTED;ROLE=NON-PARTICIPANT:mailto:nor
 eply@w3.org
ATTENDEE;CUTYPE=GROUP;ROLE=OPT-PARTICIPANT;RSVP=FALSE;CN=Web Fonts Working 
 Group:mailto:public-webfonts-wg@w3.org
RECURRENCE-ID;TZID=America/New_York:20220816T120000
END:VEVENT
END:VCALENDAR
