BEGIN:VCALENDAR
VERSION:2.0
PRODID:-//Sabre//Sabre VObject 4.5.8//EN
CALSCALE:GREGORIAN
LAST-MODIFIED:20220627T211956Z
BEGIN:VTIMEZONE
TZID:America/New_York
X-MICROSOFT-CDO-TZID:10
BEGIN:STANDARD
DTSTART:20211107T060000
TZOFFSETFROM:-0400
TZOFFSETTO:-0500
TZNAME:EST
END:STANDARD
BEGIN:STANDARD
DTSTART:20221106T060000
TZOFFSETFROM:-0400
TZOFFSETTO:-0500
TZNAME:EST
END:STANDARD
BEGIN:DAYLIGHT
DTSTART:20220313T070000
TZOFFSETFROM:-0500
TZOFFSETTO:-0400
TZNAME:EDT
END:DAYLIGHT
END:VTIMEZONE
BEGIN:VEVENT
UID:e7e1c3df-615f-48ac-8cf0-1a2c331f5e23
DTSTAMP:20220627T211956Z
SUMMARY:Web Fonts WG Call
DTSTART;TZID=America/New_York:20220628T120000
DTEND;TZID=America/New_York:20220628T130000
DESCRIPTION:https://www.w3.org/events/meetings/e7e1c3df-615f-48ac-8cf0-1a2c
 331f5e23/20220628T120000/\n\nHello WG\,\n\nLike we discussed during our la
 st Zoom call on June 14\, let's have our next call tomorrow\, before the J
 uly holidays and vacation time kicks in. I also would like to start planni
 ng for the WG meeting during TPAC week (which will be held on Sep. 13) - l
 et's chat about our plans for that week (in-person / remote participation 
 planning\, topics\, etc.).\n\nAgenda\n\n1. Review the changes / PR request
 s implemented after the last call\, in particular [#98](https://github.com
 /w3c/IFT/pull/98)\, [#100](https://github.com/w3c/IFT/pull/100)\, [#102](h
 ttps://github.com/w3c/IFT/pull/102) \n2. Review progress on open issues: h
 ttps://github.com/w3c/IFT/issues\n3. Preliminary TPAC planning.
STATUS:CONFIRMED
CREATED:20220627T211956Z
LAST-MODIFIED:20220627T211956Z
SEQUENCE:2
ORGANIZER;CN=W3C Calendar;PARTSTAT=ACCEPTED;ROLE=NON-PARTICIPANT:mailto:nor
 eply@w3.org
ATTENDEE;CUTYPE=GROUP;ROLE=OPT-PARTICIPANT;RSVP=FALSE;CN=Web Fonts Working 
 Group:mailto:public-webfonts-wg@w3.org
RECURRENCE-ID;TZID=America/New_York:20220628T120000
END:VEVENT
END:VCALENDAR
