BEGIN:VCALENDAR
VERSION:2.0
PRODID:-//Sabre//Sabre VObject 4.5.8//EN
CALSCALE:GREGORIAN
LAST-MODIFIED:20220613T180213Z
BEGIN:VTIMEZONE
TZID:America/New_York
X-MICROSOFT-CDO-TZID:10
BEGIN:STANDARD
DTSTART:20211107T060000
TZOFFSETFROM:-0400
TZOFFSETTO:-0500
TZNAME:EST
END:STANDARD
BEGIN:STANDARD
DTSTART:20221106T060000
TZOFFSETFROM:-0400
TZOFFSETTO:-0500
TZNAME:EST
END:STANDARD
BEGIN:DAYLIGHT
DTSTART:20220313T070000
TZOFFSETFROM:-0500
TZOFFSETTO:-0400
TZNAME:EDT
END:DAYLIGHT
END:VTIMEZONE
BEGIN:VEVENT
UID:e7e1c3df-615f-48ac-8cf0-1a2c331f5e23
DTSTAMP:20220613T180213Z
SUMMARY:Web Fonts WG Call
DTSTART;TZID=America/New_York:20220614T120000
DTEND;TZID=America/New_York:20220614T130000
DESCRIPTION:https://www.w3.org/events/meetings/e7e1c3df-615f-48ac-8cf0-1a2c
 331f5e23/20220614T120000/\n\nHello WG\,\n\nAs planned\, we will reconvene 
 our WG calls starting tomorrow. Please see proposed agenda items below.\n\
 nAgenda\n\n1. Review opened and recently closed PRs: [#95](https://github.
 com/w3c/IFT/pull/95)\, [#97](https://github.com/w3c/IFT/pull/97)\, [#98](h
 ttps://github.com/w3c/IFT/pull/98)\n2. Discuss remaining open issues: http
 s://github.com/w3c/IFT/issues\n3. Demo opportunity for TPAC: similar to [l
 ast year TPAC](https://www.w3.org/2021/10/TPAC/group-updates.html)\, TPAC 
 2022 will offer an opportunity for group demos prepared as [video presenta
 tions](https://www.w3.org/wiki/TPAC2021/Demos_and_Group_updates#Best_Pract
 ices_for_Recording_Videos). Let's discuss our plans during the call.\n4. A
 OB
STATUS:CONFIRMED
CREATED:20220613T180213Z
LAST-MODIFIED:20220613T180213Z
SEQUENCE:2
ORGANIZER;CN=W3C Calendar;PARTSTAT=ACCEPTED;ROLE=NON-PARTICIPANT:mailto:nor
 eply@w3.org
ATTENDEE;CUTYPE=GROUP;ROLE=OPT-PARTICIPANT;RSVP=FALSE;CN=Web Fonts Working 
 Group:mailto:public-webfonts-wg@w3.org
RECURRENCE-ID;TZID=America/New_York:20220614T120000
END:VEVENT
END:VCALENDAR
