BEGIN:VCALENDAR
VERSION:2.0
PRODID:-//Sabre//Sabre VObject 4.5.8//EN
CALSCALE:GREGORIAN
LAST-MODIFIED:20220513T190915Z
BEGIN:VTIMEZONE
TZID:America/New_York
X-MICROSOFT-CDO-TZID:10
BEGIN:STANDARD
DTSTART:20211107T060000
TZOFFSETFROM:-0400
TZOFFSETTO:-0500
TZNAME:EST
END:STANDARD
BEGIN:STANDARD
DTSTART:20221106T060000
TZOFFSETFROM:-0400
TZOFFSETTO:-0500
TZNAME:EST
END:STANDARD
BEGIN:DAYLIGHT
DTSTART:20220313T070000
TZOFFSETFROM:-0500
TZOFFSETTO:-0400
TZNAME:EDT
END:DAYLIGHT
END:VTIMEZONE
BEGIN:VEVENT
UID:e7e1c3df-615f-48ac-8cf0-1a2c331f5e23
DTSTAMP:20220513T190915Z
SUMMARY:Web Fonts WG Call
DTSTART;TZID=America/New_York:20220517T120000
DTEND;TZID=America/New_York:20220517T130000
DESCRIPTION:https://www.w3.org/events/meetings/e7e1c3df-615f-48ac-8cf0-1a2c
 331f5e23/20220517T120000/\n\nFolks\,\n\nPlease make every possible effort 
 to attend this WG call. Our last call was postponed again due to low atten
 dance\, while the list of agenda items keeps growing and many of them requ
 ire the WG attention and resolutions. \nWe may not have enough time to fin
 ish the discussion of all agenda items in one hour - please review the lis
 t of open issues and add your comments to speed up their discussions.\nLoo
 king forward to seeing many of you on our Zoom call next week!\n\nAgenda\n
 \n1.	Approval of proposed amendments to WOFF2 Recommendation: https://gith
 ub.com/w3c/woff/issues/15#issuecomment-1125338474\n2.	Patch Subset Server 
 Conformance Tests demo: https://lists.w3.org/Archives/Public/public-webfon
 ts-wg/2022May/0001.html \n3.	TPAC 2022 planning: https://lists.w3.org/Arch
 ives/Public/public-webfonts-wg/2022May/0003.html\n4.	Review open issues: h
 ttps://github.com/w3c/IFT/issues\n(Please enter your comments ahead of the
  call\, hopefully we can close some of the older issues if no additional a
 ctions are expected and/or necessary.)\n5.	AOB
STATUS:CONFIRMED
CREATED:20220513T190915Z
LAST-MODIFIED:20220513T190915Z
SEQUENCE:2
ORGANIZER;CN=W3C Calendar;PARTSTAT=ACCEPTED;ROLE=NON-PARTICIPANT:mailto:nor
 eply@w3.org
ATTENDEE;CUTYPE=GROUP;ROLE=OPT-PARTICIPANT;RSVP=FALSE;CN=Web Fonts Working 
 Group:mailto:public-webfonts-wg@w3.org
RECURRENCE-ID;TZID=America/New_York:20220517T120000
END:VEVENT
END:VCALENDAR
