BEGIN:VCALENDAR
VERSION:2.0
PRODID:-//Sabre//Sabre VObject 4.5.8//EN
CALSCALE:GREGORIAN
LAST-MODIFIED:20220503T223719Z
BEGIN:VTIMEZONE
TZID:America/New_York
X-MICROSOFT-CDO-TZID:10
BEGIN:STANDARD
DTSTART:20211107T060000
TZOFFSETFROM:-0400
TZOFFSETTO:-0500
TZNAME:EST
END:STANDARD
BEGIN:STANDARD
DTSTART:20221106T060000
TZOFFSETFROM:-0400
TZOFFSETTO:-0500
TZNAME:EST
END:STANDARD
BEGIN:DAYLIGHT
DTSTART:20220313T070000
TZOFFSETFROM:-0500
TZOFFSETTO:-0400
TZNAME:EDT
END:DAYLIGHT
END:VTIMEZONE
BEGIN:VEVENT
UID:e7e1c3df-615f-48ac-8cf0-1a2c331f5e23
DTSTAMP:20220503T223719Z
SUMMARY:Web Fonts WG Call
DTSTART;TZID=America/New_York:20220510T120000
DTEND;TZID=America/New_York:20220510T130000
DESCRIPTION:https://www.w3.org/events/meetings/e7e1c3df-615f-48ac-8cf0-1a2c
 331f5e23/20220510T120000/\n\nFolks\,\nWe didn't have quorum today\, so Gar
 ret and I decided to postpone the WG call until next week.\nPlease see the
  updated agenda below.\n\nAgenda\n\n1. Patch Subset Server Conformance Tes
 ts demo: https://lists.w3.org/Archives/Public/public-webfonts-wg/2022May/0
 001.html\n2. Quick recap of the recent events (https://www.w3.org/2022/04/
 pressrelease-woff-emmyaward.html.en)\n3. Review open issues: https://githu
 b.com/w3c/IFT/issues\n(Please enter your comments ahead of the call\, hope
 fully we can close some of the older issues if no additional actions are e
 xpected and/or necessary.)\n4. TPAC 2022 planning: https://lists.w3.org/Ar
 chives/Public/public-webfonts-wg/2022May/0003.html\n5. AOB
STATUS:CONFIRMED
CREATED:20220503T223719Z
LAST-MODIFIED:20220503T223719Z
SEQUENCE:2
ORGANIZER;CN=W3C Calendar;PARTSTAT=ACCEPTED;ROLE=NON-PARTICIPANT:mailto:nor
 eply@w3.org
ATTENDEE;CUTYPE=GROUP;ROLE=OPT-PARTICIPANT;RSVP=FALSE;CN=Web Fonts Working 
 Group:mailto:public-webfonts-wg@w3.org
RECURRENCE-ID;TZID=America/New_York:20220510T120000
END:VEVENT
END:VCALENDAR
