BEGIN:VCALENDAR
VERSION:2.0
PRODID:-//Sabre//Sabre VObject 4.5.8//EN
CALSCALE:GREGORIAN
LAST-MODIFIED:20220328T190336Z
BEGIN:VTIMEZONE
TZID:America/New_York
X-MICROSOFT-CDO-TZID:10
BEGIN:STANDARD
DTSTART:20211107T060000
TZOFFSETFROM:-0400
TZOFFSETTO:-0500
TZNAME:EST
END:STANDARD
BEGIN:STANDARD
DTSTART:20221106T060000
TZOFFSETFROM:-0400
TZOFFSETTO:-0500
TZNAME:EST
END:STANDARD
BEGIN:DAYLIGHT
DTSTART:20220313T070000
TZOFFSETFROM:-0500
TZOFFSETTO:-0400
TZNAME:EDT
END:DAYLIGHT
END:VTIMEZONE
BEGIN:VEVENT
UID:e7e1c3df-615f-48ac-8cf0-1a2c331f5e23
DTSTAMP:20220328T190336Z
SUMMARY:Web Fonts WG Call
DTSTART;TZID=America/New_York:20220329T120000
DTEND;TZID=America/New_York:20220329T130000
DESCRIPTION:https://www.w3.org/events/meetings/e7e1c3df-615f-48ac-8cf0-1a2c
 331f5e23/20220329T120000/\n\nThis is a weekly recurring WG call. Individua
 l occurrences may be postponed based on the WG and/or chair decisions.\n\n
 Agenda\n\nLet's review and discuss the following topics:\n1. WOFF2 Transfo
 rmed 'glyf' table changes (data field sizes\, alignment\, etc.) - see this
  email thread https://lists.w3.org/Archives/Public/public-webfonts-wg/2022
 Mar/0012.html\n2. Review open issues - https://github.com/w3c/IFT/issues\n
 3. AOB
STATUS:CONFIRMED
CREATED:20220328T190336Z
LAST-MODIFIED:20220328T190336Z
SEQUENCE:2
ORGANIZER;CN=W3C Calendar;PARTSTAT=ACCEPTED;ROLE=NON-PARTICIPANT:mailto:nor
 eply@w3.org
ATTENDEE;CUTYPE=GROUP;ROLE=OPT-PARTICIPANT;RSVP=FALSE;CN=Web Fonts Working 
 Group:mailto:public-webfonts-wg@w3.org
RECURRENCE-ID;TZID=America/New_York:20220329T120000
END:VEVENT
END:VCALENDAR
