BEGIN:VCALENDAR
VERSION:2.0
PRODID:-//Sabre//Sabre VObject 4.5.8//EN
CALSCALE:GREGORIAN
LAST-MODIFIED:20220307T161252Z
BEGIN:VTIMEZONE
TZID:America/New_York
X-MICROSOFT-CDO-TZID:10
BEGIN:DAYLIGHT
DTSTART:20210314T070000
TZOFFSETFROM:-0500
TZOFFSETTO:-0400
TZNAME:EDT
END:DAYLIGHT
BEGIN:DAYLIGHT
DTSTART:20220313T070000
TZOFFSETFROM:-0500
TZOFFSETTO:-0400
TZNAME:EDT
END:DAYLIGHT
BEGIN:STANDARD
DTSTART:20211107T060000
TZOFFSETFROM:-0400
TZOFFSETTO:-0500
TZNAME:EST
END:STANDARD
END:VTIMEZONE
BEGIN:VEVENT
UID:e7e1c3df-615f-48ac-8cf0-1a2c331f5e23
DTSTAMP:20220307T161252Z
SUMMARY:Web Fonts WG Call
DTSTART;TZID=America/New_York:20220308T120000
DTEND;TZID=America/New_York:20220308T130000
DESCRIPTION:https://www.w3.org/events/meetings/e7e1c3df-615f-48ac-8cf0-1a2c
 331f5e23/20220308T120000/\n\nFolks\,\nwe will have our call tomorrow - tim
 e to shake things up. March 8th is the International Women's Day\, perfect
  occasion to get something done! (For those who are not familiar with this
  holiday - this is the day when men are eager to do something nice for the
 ir better halves.)\n\nAgenda\n\n1. Two new PRs (#77 needs final review) - 
 https://github.com/w3c/IFT/pulls\n2. New & old open issues: https://github
 .com/w3c/IFT/issues\n3. AOB
STATUS:CONFIRMED
CREATED:20220307T161251Z
LAST-MODIFIED:20220307T161252Z
SEQUENCE:2
ORGANIZER;CN=W3C Calendar;PARTSTAT=ACCEPTED;ROLE=NON-PARTICIPANT:mailto:nor
 eply@w3.org
ATTENDEE;CUTYPE=GROUP;ROLE=OPT-PARTICIPANT;RSVP=FALSE;CN=Web Fonts Working 
 Group:mailto:public-webfonts-wg@w3.org
RECURRENCE-ID;TZID=America/New_York:20220308T120000
END:VEVENT
END:VCALENDAR
