BEGIN:VCALENDAR
VERSION:2.0
PRODID:-//Sabre//Sabre VObject 4.5.8//EN
CALSCALE:GREGORIAN
LAST-MODIFIED:20220207T193425Z
BEGIN:VTIMEZONE
TZID:America/New_York
X-MICROSOFT-CDO-TZID:10
BEGIN:DAYLIGHT
DTSTART:20210314T070000
TZOFFSETFROM:-0500
TZOFFSETTO:-0400
TZNAME:EDT
END:DAYLIGHT
BEGIN:DAYLIGHT
DTSTART:20220313T070000
TZOFFSETFROM:-0500
TZOFFSETTO:-0400
TZNAME:EDT
END:DAYLIGHT
BEGIN:STANDARD
DTSTART:20211107T060000
TZOFFSETFROM:-0400
TZOFFSETTO:-0500
TZNAME:EST
END:STANDARD
END:VTIMEZONE
BEGIN:VEVENT
UID:e7e1c3df-615f-48ac-8cf0-1a2c331f5e23
DTSTAMP:20220207T193425Z
SUMMARY:Web Fonts WG Call
DTSTART;TZID=America/New_York:20220208T120000
DTEND;TZID=America/New_York:20220208T130000
DESCRIPTION:https://www.w3.org/events/meetings/e7e1c3df-615f-48ac-8cf0-1a2c
 331f5e23/20220208T120000/\n\nSee updated agenda.\n\nAgenda\n\nLet's try it
  again! Please see updated agenda items below.\nFor this call\, we will di
 scuss:\n- a first draft of the merged IFT spec for review: https://github.
 com/w3c/IFT/pull/76\n- review the open issues: https://github.com/w3c/IFT/
 issues\n- FPWD of IFT Range Request: https://www.w3.org/TR/RangeRequest/\n
 - public outreach\, possible ATypI 2022 presentation(s)\, etc.\n- AOB
STATUS:CONFIRMED
CREATED:20220205T025216Z
LAST-MODIFIED:20220207T193425Z
SEQUENCE:2
ORGANIZER;CN=W3C Calendar;PARTSTAT=ACCEPTED;ROLE=NON-PARTICIPANT:mailto:nor
 eply@w3.org
ATTENDEE;CUTYPE=GROUP;ROLE=OPT-PARTICIPANT;RSVP=FALSE;CN=Web Fonts Working 
 Group:mailto:public-webfonts-wg@w3.org
RECURRENCE-ID;TZID=America/New_York:20220208T120000
END:VEVENT
END:VCALENDAR
