BEGIN:VCALENDAR
VERSION:2.0
PRODID:-//Sabre//Sabre VObject 4.5.8//EN
CALSCALE:GREGORIAN
LAST-MODIFIED:20260223T063437Z
BEGIN:VTIMEZONE
TZID:Australia/Sydney
X-MICROSOFT-CDO-TZID:76
BEGIN:STANDARD
DTSTART:20250405T160000
TZOFFSETFROM:+1100
TZOFFSETTO:+1000
TZNAME:AEST
END:STANDARD
BEGIN:STANDARD
DTSTART:20260404T160000
TZOFFSETFROM:+1100
TZOFFSETTO:+1000
TZNAME:AEST
END:STANDARD
BEGIN:DAYLIGHT
DTSTART:20251004T160000
TZOFFSETFROM:+1000
TZOFFSETTO:+1100
TZNAME:AEDT
END:DAYLIGHT
END:VTIMEZONE
BEGIN:VEVENT
UID:e7ac44ea-f760-4f1f-868f-89e732d455c6
DTSTAMP:20260223T063437Z
SUMMARY:Geolocation Spec Issue Triage Meeting
DTSTART;TZID=Australia/Sydney:20260226T110000
DTEND;TZID=Australia/Sydney:20260226T120000
DESCRIPTION:https://www.w3.org/events/meetings/e7ac44ea-f760-4f1f-868f-89e7
 32d455c6/\n\n\n\nAgenda: https://docs.google.com/document/d/1lcBiFt7NNsADH
 RqLAHQHHZWNtfzITMI5Lpj-ssiCWZM/
STATUS:CONFIRMED
CREATED:20260223T063436Z
LAST-MODIFIED:20260223T063437Z
SEQUENCE:0
ORGANIZER;CN=W3C Calendar;PARTSTAT=ACCEPTED;ROLE=NON-PARTICIPANT:mailto:nor
 eply@w3.org
ATTENDEE;CUTYPE=GROUP;ROLE=OPT-PARTICIPANT;RSVP=FALSE;CN=Devices and Sensor
 s Working Group:mailto:public-device-apis@w3.org
ATTENDEE;CUTYPE=GROUP;ROLE=OPT-PARTICIPANT;RSVP=FALSE;CN=Web Applications W
 orking Group:mailto:public-webapps@w3.org
END:VEVENT
END:VCALENDAR
