BEGIN:VCALENDAR
VERSION:2.0
PRODID:-//Sabre//Sabre VObject 4.5.8//EN
CALSCALE:GREGORIAN
LAST-MODIFIED:20251107T170953Z
BEGIN:VTIMEZONE
TZID:Asia/Tokyo
X-MICROSOFT-CDO-TZID:20
BEGIN:STANDARD
DTSTART:20241116T051500
TZOFFSETFROM:+0900
TZOFFSETTO:+0900
TZNAME:JST
END:STANDARD
END:VTIMEZONE
BEGIN:VEVENT
UID:e7776945-8f20-4fd9-9935-7ec3d213b58d
DTSTAMP:20251107T170953Z
SUMMARY:Accessible Platform Architectures Working Group
DTSTART;TZID=Asia/Tokyo:20251111T141500
DTEND;TZID=Asia/Tokyo:20251111T180000
DESCRIPTION:https://www.w3.org/events/meetings/e7776945-8f20-4fd9-9935-7ec3
 d213b58d/\n\n\n\nAgenda: https://github.com/w3c/apa/issues/358
STATUS:CONFIRMED
CREATED:20250716T142439Z
LAST-MODIFIED:20251107T170953Z
SEQUENCE:9
ORGANIZER;CN=W3C Calendar;PARTSTAT=ACCEPTED;ROLE=NON-PARTICIPANT:mailto:nor
 eply@w3.org
ATTENDEE;CUTYPE=GROUP;ROLE=OPT-PARTICIPANT;RSVP=FALSE;CN=Accessible Platfor
 m Architectures Working Group:mailto:public-apa@w3.org
LOCATION:Floor 5 - 503
CATEGORIES:TPAC 2025,Group Meetings
END:VEVENT
END:VCALENDAR
