BEGIN:VCALENDAR
VERSION:2.0
PRODID:-//Sabre//Sabre VObject 4.5.8//EN
CALSCALE:GREGORIAN
LAST-MODIFIED:20260227T232826Z
BEGIN:VTIMEZONE
TZID:Asia/Tokyo
X-MICROSOFT-CDO-TZID:20
BEGIN:STANDARD
DTSTART:20241115T000000
TZOFFSETFROM:+0900
TZOFFSETTO:+0900
TZNAME:JST
END:STANDARD
END:VTIMEZONE
BEGIN:VEVENT
UID:e75c7109-c997-467b-911a-b1b5b388da3a
DTSTAMP:20260227T232826Z
SUMMARY:Advisory Board
DTSTART;TZID=Asia/Tokyo:20251110T090000
DTEND;TZID=Asia/Tokyo:20251110T123000
DESCRIPTION:https://www.w3.org/events/meetings/e75c7109-c997-467b-911a-b1b5
 b388da3a/\n\nAB meeting 9am-12:30pm Monday 10 November at TPAC 2025
STATUS:CONFIRMED
CREATED:20250818T145638Z
LAST-MODIFIED:20260227T232826Z
SEQUENCE:9
ORGANIZER;CN=W3C Calendar;PARTSTAT=ACCEPTED;ROLE=NON-PARTICIPANT:mailto:nor
 eply@w3.org
ATTENDEE;CUTYPE=GROUP;ROLE=OPT-PARTICIPANT;RSVP=FALSE;CN=Advisory Board:mai
 lto:w3c-ac-members@w3.org
LOCATION:Floor 5 - 503
CATEGORIES:TPAC 2025,Group Meetings
END:VEVENT
END:VCALENDAR
