BEGIN:VCALENDAR
VERSION:2.0
PRODID:-//Sabre//Sabre VObject 4.5.8//EN
CALSCALE:GREGORIAN
LAST-MODIFIED:20221004T173258Z
BEGIN:VTIMEZONE
TZID:America/Los_Angeles
X-MICROSOFT-CDO-TZID:13
BEGIN:STANDARD
DTSTART:20211107T090000
TZOFFSETFROM:-0700
TZOFFSETTO:-0800
TZNAME:PST
END:STANDARD
BEGIN:STANDARD
DTSTART:20221106T090000
TZOFFSETFROM:-0700
TZOFFSETTO:-0800
TZNAME:PST
END:STANDARD
BEGIN:DAYLIGHT
DTSTART:20220313T100000
TZOFFSETFROM:-0800
TZOFFSETTO:-0700
TZNAME:PDT
END:DAYLIGHT
END:VTIMEZONE
BEGIN:VEVENT
UID:e7097f44-6aed-4dd9-836a-ff4538548ca6
DTSTAMP:20221004T173258Z
SUMMARY:Deep Dive - ARIA Processes
DTSTART;TZID=America/Los_Angeles:20221006T090000
DTEND;TZID=America/Los_Angeles:20221006T100000
DESCRIPTION:https://www.w3.org/events/meetings/e7097f44-6aed-4dd9-836a-ff45
 38548ca6/\n\n\n\nAgenda\n\nhttps://docs.google.com/document/d/14dOVzG-nB1P
 -uLBET3BYC2v_LvfPpUPWvRfqGLUnBzg/edit
STATUS:CONFIRMED
CREATED:20221004T173257Z
LAST-MODIFIED:20221004T173258Z
SEQUENCE:0
ORGANIZER;CN=W3C Calendar;PARTSTAT=ACCEPTED;ROLE=NON-PARTICIPANT:mailto:nor
 eply@w3.org
ATTENDEE;CUTYPE=GROUP;ROLE=OPT-PARTICIPANT;RSVP=FALSE;CN=Accessible Rich In
 ternet Applications Working Group:mailto:public-aria@w3.org
END:VEVENT
END:VCALENDAR
