BEGIN:VCALENDAR
VERSION:2.0
PRODID:-//Sabre//Sabre VObject 4.5.8//EN
CALSCALE:GREGORIAN
LAST-MODIFIED:20250407T144221Z
BEGIN:VTIMEZONE
TZID:America/New_York
X-MICROSOFT-CDO-TZID:10
BEGIN:STANDARD
DTSTART:20241103T060000
TZOFFSETFROM:-0400
TZOFFSETTO:-0500
TZNAME:EST
END:STANDARD
BEGIN:STANDARD
DTSTART:20251102T060000
TZOFFSETFROM:-0400
TZOFFSETTO:-0500
TZNAME:EST
END:STANDARD
BEGIN:DAYLIGHT
DTSTART:20250309T070000
TZOFFSETFROM:-0500
TZOFFSETTO:-0400
TZNAME:EDT
END:DAYLIGHT
END:VTIMEZONE
BEGIN:VEVENT
UID:e689ee5c-7850-4e2f-ab7e-1e5dac710f5b
DTSTAMP:20250407T144221Z
SUMMARY:ACT Office Hours
DTSTART;TZID=America/New_York:20250410T080000
DTEND;TZID=America/New_York:20250410T130000
DESCRIPTION:https://www.w3.org/events/meetings/e689ee5c-7850-4e2f-ab7e-1e5d
 ac710f5b/20250410T080000/\n\nThis is a working session\, not our usual mee
 ting. Attendance is optional. Feel free to only join for part of the meeti
 ng\, or skip all together if not convenient. \nThe "office hours" meeting 
 is a time we'll block off for whoever's available to collaborate on ACT Ru
 les. We'll spend the time working together on issues\, reviews\, new rules
 \, etc. This is also a perfect opportunity for people to get help with Git
 Hub\, if that's not your thing. During office hours\, at least one chair o
 r facilitator will be available to help out with any issues your working\,
  review you need\, or anything else.\nHope you'll all be able to attend a 
 part of it. If this goes well\, we intend to run an office hours meeting o
 nce every 4 weeks.\n\nAgenda\n\nThere are various topics we can be working
  on this meeting\, including:\n\n- Feedback from TAG\n- Rule identifiers f
 eedback\n- Programmatic language\n- Open PRs on rules format\n- Open PRs o
 n ACT rules
STATUS:CONFIRMED
CREATED:20250407T144220Z
LAST-MODIFIED:20250407T144221Z
SEQUENCE:5
ORGANIZER;CN=W3C Calendar;PARTSTAT=ACCEPTED;ROLE=NON-PARTICIPANT:mailto:nor
 eply@w3.org
ATTENDEE;CUTYPE=GROUP;ROLE=OPT-PARTICIPANT;RSVP=FALSE;CN=Accessibility Conf
 ormance Testing (ACT) Task Force:mailto:public-wcag-act@w3.org
ATTENDEE;CUTYPE=GROUP;ROLE=OPT-PARTICIPANT;RSVP=FALSE;CN=ACT Rules Communit
 y Group:mailto:public-act-r@w3.org
RECURRENCE-ID;TZID=America/New_York:20250410T080000
END:VEVENT
END:VCALENDAR
