BEGIN:VCALENDAR
VERSION:2.0
PRODID:-//Sabre//Sabre VObject 4.5.8//EN
CALSCALE:GREGORIAN
LAST-MODIFIED:20250730T101120Z
BEGIN:VTIMEZONE
TZID:Europe/Dublin
BEGIN:DAYLIGHT
DTSTART:20241027T010000
TZOFFSETFROM:+0100
TZOFFSETTO:+0000
TZNAME:GMT
END:DAYLIGHT
BEGIN:DAYLIGHT
DTSTART:20251026T010000
TZOFFSETFROM:+0100
TZOFFSETTO:+0000
TZNAME:GMT
END:DAYLIGHT
BEGIN:STANDARD
DTSTART:20250330T010000
TZOFFSETFROM:+0000
TZOFFSETTO:+0100
TZNAME:IST
END:STANDARD
END:VTIMEZONE
BEGIN:VEVENT
UID:e5eb07aa-b105-460e-8b90-3479ae95ee21
DTSTAMP:20250730T101120Z
SUMMARY:DPVCG Meeting 30 JUL 2025
DTSTART;TZID=Europe/Dublin:20250730T133000
DTEND;TZID=Europe/Dublin:20250730T143000
DESCRIPTION:https://www.w3.org/events/meetings/e5eb07aa-b105-460e-8b90-3479
 ae95ee21/20250730T133000/\n\nThis is the weekly meeting for the DPVCG\n\nA
 genda: https://www.w3.org/events/meetings/e5eb07aa-b105-460e-8b90-3479ae95
 ee21/20250730T133000/\n\nAgenda\n\nPrevious minutes: https://w3id.org/dpv/
 meetings/meeting-2025-07-23\nNOTE: Weekly meeting slot has changed to WED 
 14:30 CEST\n\n## v2.2\n\n- https://github.com/w3c/dpv/milestone/7\n- https
 ://github.com/w3c/dpv/issues/301\n- reviewing documents/outputs\n- breakin
 g changes to IRIs: https://github.com/w3c/dpv/issues/313\n- countries and 
 subdivisions in LOC: https://github.com/w3c/dpv/issues/321\n\n## v2.3 \n\n
 - alignment with ODRL https://github.com/w3c/dpv/issues/130\n- rules fulfi
 lment and applicability statuses https://github.com/w3c/dpv/issues/189\n- 
 mapping between GDPR and DPV https://github.com/w3c/dpv/issues/186\n- data
 sheets and model cards https://github.com/w3c/dpv/issues/94\n\n## AOB
STATUS:CONFIRMED
CREATED:20250725T135006Z
LAST-MODIFIED:20250730T101120Z
SEQUENCE:2
ORGANIZER;CN=W3C Calendar;PARTSTAT=ACCEPTED;ROLE=NON-PARTICIPANT:mailto:nor
 eply@w3.org
ATTENDEE;CUTYPE=GROUP;ROLE=OPT-PARTICIPANT;RSVP=FALSE;CN=Data Privacy Vocab
 ularies and Controls Community Group:mailto:public-dpvcg@w3.org
RECURRENCE-ID;TZID=Europe/Dublin:20250730T133000
END:VEVENT
END:VCALENDAR
