BEGIN:VCALENDAR
VERSION:2.0
PRODID:-//Sabre//Sabre VObject 4.5.8//EN
CALSCALE:GREGORIAN
LAST-MODIFIED:20220411T200424Z
BEGIN:VTIMEZONE
TZID:Europe/Vienna
BEGIN:STANDARD
DTSTART:20211031T010000
TZOFFSETFROM:+0200
TZOFFSETTO:+0100
TZNAME:CET
END:STANDARD
BEGIN:STANDARD
DTSTART:20221030T010000
TZOFFSETFROM:+0200
TZOFFSETTO:+0100
TZNAME:CET
END:STANDARD
BEGIN:DAYLIGHT
DTSTART:20220327T010000
TZOFFSETFROM:+0100
TZOFFSETTO:+0200
TZNAME:CEST
END:DAYLIGHT
END:VTIMEZONE
BEGIN:VEVENT
UID:e5dd8d4c-d504-4dcc-9b20-00abfbdf735c
DTSTAMP:20220411T200424Z
SUMMARY:DPVCG Meeting Call 13 APR 2022
DTSTART;TZID=Europe/Vienna:20220413T140000
DTEND;TZID=Europe/Vienna:20220413T150000
DESCRIPTION:https://www.w3.org/events/meetings/e5dd8d4c-d504-4dcc-9b20-00ab
 fbdf735c/\n\n\n\nAgenda\n\nMinutes of last call: https://www.w3.org/2022/0
 4/06-dpvcg-minutes.html\n\n1. Continued discussion on proposed concepts re
 garding Data Subjects and Technologies\n2. AOB
STATUS:CONFIRMED
CREATED:20220411T200423Z
LAST-MODIFIED:20220411T200424Z
SEQUENCE:0
ORGANIZER;CN=W3C Calendar;PARTSTAT=ACCEPTED;ROLE=NON-PARTICIPANT:mailto:nor
 eply@w3.org
ATTENDEE;CUTYPE=GROUP;ROLE=OPT-PARTICIPANT;RSVP=FALSE;CN=Data Privacy Vocab
 ularies and Controls Community Group:mailto:public-dpvcg@w3.org
END:VEVENT
END:VCALENDAR
