BEGIN:VCALENDAR
VERSION:2.0
PRODID:-//Sabre//Sabre VObject 4.5.8//EN
CALSCALE:GREGORIAN
LAST-MODIFIED:20250312T174210Z
BEGIN:VTIMEZONE
TZID:America/New_York
X-MICROSOFT-CDO-TZID:10
BEGIN:STANDARD
DTSTART:20241103T060000
TZOFFSETFROM:-0400
TZOFFSETTO:-0500
TZNAME:EST
END:STANDARD
BEGIN:STANDARD
DTSTART:20251102T060000
TZOFFSETFROM:-0400
TZOFFSETTO:-0500
TZNAME:EST
END:STANDARD
BEGIN:DAYLIGHT
DTSTART:20250309T070000
TZOFFSETFROM:-0500
TZOFFSETTO:-0400
TZNAME:EDT
END:DAYLIGHT
END:VTIMEZONE
BEGIN:VEVENT
UID:e5c2b1c4-6993-483f-a624-cb260c163e44
DTSTAMP:20250312T174210Z
SUMMARY:ARIA Working Group weekly meeting
DTSTART;TZID=America/New_York:20250313T130000
DTEND;TZID=America/New_York:20250313T140000
DESCRIPTION:https://www.w3.org/events/meetings/e5c2b1c4-6993-483f-a624-cb26
 0c163e44/20250313T130000/\n\n\n\nAgenda\n\n* [New Issue Triage](https://gi
 thub.com/search?l=&q=no:milestone+is%3Aopen+is%3Aissue+created%3A%3E%3D202
 5-03-06+repo%3Aw3c%2Faria+repo%3Aw3c%2Faccname+repo%3Aw3c%2Fcore-aam+repo%
 3Aw3c%2Fhtml-aam+repo%3Aw3c%2Fdpub-aam+repo%3Aw3c%2Fsvg-aam+repo%3Aw3c%2Fd
 pub-aria+repo%3Aw3c%2Fgraphics-aria+repo%3Aw3c%2Fgraphics-aam+repo%3Aw3c%2
 Fmathml-aam&type=Issues)\n* [New PR Triage](https://github.com/search?l=&q
 =is%3Aopen+is%3Apr+created%3A%3E%3D2025-03-06+repo%3Aw3c%2Faria&type=Issue
 s)\n* [WPT Open PRs](https://bit.ly/wpt_a11y)\n* [Deep Dive planning](http
 s://bit.ly/aria-meaty-topic-candidates)\n\n* [Adding code documentation fo
 r AAMs](https://github.com/w3c/aria/issues/2461)\n* [Consider supporting m
 ultiline comboboxes](https://github.com/w3c/aria/issues/2456)\n* [Group as
  allowed acc child of role menu if acc child of menuitem](https://github.c
 om/w3c/aria/issues/2438)\n* [Should the 'row' role really be necessary for
  parents of 'gridcell' and other cell role elements?](https://github.com/w
 3c/aria/issues/2402)\n* [Document interop of misspelled aria-labeledby and
  its conflict resolution](https://github.com/w3c/aria/issues/2093)
STATUS:CONFIRMED
CREATED:20250312T174209Z
LAST-MODIFIED:20250312T174210Z
SEQUENCE:4
ORGANIZER;CN=W3C Calendar;PARTSTAT=ACCEPTED;ROLE=NON-PARTICIPANT:mailto:nor
 eply@w3.org
ATTENDEE;CUTYPE=GROUP;ROLE=OPT-PARTICIPANT;RSVP=FALSE;CN=Accessible Rich In
 ternet Applications Working Group:mailto:public-aria@w3.org
RECURRENCE-ID;TZID=America/New_York:20250313T130000
END:VEVENT
END:VCALENDAR
