BEGIN:VCALENDAR
VERSION:2.0
PRODID:-//Sabre//Sabre VObject 4.5.8//EN
CALSCALE:GREGORIAN
LAST-MODIFIED:20221116T122340Z
BEGIN:VTIMEZONE
TZID:Etc/UTC
BEGIN:STANDARD
DTSTART:20211120T160000
TZOFFSETFROM:+0000
TZOFFSETTO:+0000
TZNAME:UTC
END:STANDARD
END:VTIMEZONE
BEGIN:VEVENT
UID:e56cb80d-3ff7-46c7-b85a-ad6077085b31
DTSTAMP:20221116T122340Z
SUMMARY:WebRTC WG November 2022 call
DTSTART;TZID=Etc/UTC:20221115T160000
DTEND;TZID=Etc/UTC:20221115T180000
DESCRIPTION:https://www.w3.org/events/meetings/e56cb80d-3ff7-46c7-b85a-ad60
 77085b31/\n\n\n\nAgenda: https://www.w3.org/2011/04/webrtc/wiki/November_1
 5_2022#WebRTC_WG_Virtual_Interim
STATUS:CONFIRMED
CREATED:20220919T095817Z
LAST-MODIFIED:20221116T122340Z
SEQUENCE:0
ORGANIZER;CN=W3C Calendar;PARTSTAT=ACCEPTED;ROLE=NON-PARTICIPANT:mailto:nor
 eply@w3.org
ATTENDEE;CUTYPE=GROUP;ROLE=OPT-PARTICIPANT;RSVP=FALSE;CN=Web Real-Time Comm
 unications Working Group:mailto:public-webrtc@w3.org
END:VEVENT
END:VCALENDAR
