BEGIN:VCALENDAR
VERSION:2.0
PRODID:-//Sabre//Sabre VObject 4.5.8//EN
CALSCALE:GREGORIAN
LAST-MODIFIED:20240205T175325Z
BEGIN:VTIMEZONE
TZID:America/Los_Angeles
X-MICROSOFT-CDO-TZID:13
BEGIN:DAYLIGHT
DTSTART:20230312T100000
TZOFFSETFROM:-0800
TZOFFSETTO:-0700
TZNAME:PDT
END:DAYLIGHT
BEGIN:DAYLIGHT
DTSTART:20240310T100000
TZOFFSETFROM:-0800
TZOFFSETTO:-0700
TZNAME:PDT
END:DAYLIGHT
BEGIN:STANDARD
DTSTART:20231105T090000
TZOFFSETFROM:-0700
TZOFFSETTO:-0800
TZNAME:PST
END:STANDARD
END:VTIMEZONE
BEGIN:VEVENT
UID:e1d29c83-36d4-4164-aea6-fa2e1234d946
DTSTAMP:20240205T175325Z
SUMMARY:W3C Audio WG/CG Teleconference (EMEA-frendly)
DTSTART;TZID=America/Los_Angeles:20240208T090000
DTEND;TZID=America/Los_Angeles:20240208T100000
DESCRIPTION:https://www.w3.org/events/meetings/e1d29c83-36d4-4164-aea6-fa2e
 1234d946/\n\n\n\nAgenda: http://bit.ly/audiowg-minutes\n\nJoining Instruct
 ions: https://meet.google.com/yew-qzrq-upp\n\nChat\n\nhttps://app.slack.co
 m/client/T04PVA27V/C04C04NQZ9P
STATUS:CONFIRMED
CREATED:20240205T175322Z
LAST-MODIFIED:20240205T175325Z
SEQUENCE:0
ORGANIZER;CN=W3C Calendar;PARTSTAT=ACCEPTED;ROLE=NON-PARTICIPANT:mailto:nor
 eply@w3.org
ATTENDEE;CUTYPE=GROUP;ROLE=OPT-PARTICIPANT;RSVP=FALSE;CN=Audio Community Gr
 oup:mailto:public-audio-comgp@w3.org
ATTENDEE;CUTYPE=GROUP;ROLE=OPT-PARTICIPANT;RSVP=FALSE;CN=Audio Working Grou
 p:mailto:public-audio@w3.org
END:VEVENT
END:VCALENDAR
