BEGIN:VCALENDAR
VERSION:2.0
PRODID:-//Sabre//Sabre VObject 4.5.8//EN
CALSCALE:GREGORIAN
LAST-MODIFIED:20230303T171330Z
BEGIN:VTIMEZONE
TZID:America/New_York
X-MICROSOFT-CDO-TZID:10
BEGIN:DAYLIGHT
DTSTART:20220313T070000
TZOFFSETFROM:-0500
TZOFFSETTO:-0400
TZNAME:EDT
END:DAYLIGHT
BEGIN:DAYLIGHT
DTSTART:20230312T070000
TZOFFSETFROM:-0500
TZOFFSETTO:-0400
TZNAME:EDT
END:DAYLIGHT
BEGIN:STANDARD
DTSTART:20221106T060000
TZOFFSETFROM:-0400
TZOFFSETTO:-0500
TZNAME:EST
END:STANDARD
END:VTIMEZONE
BEGIN:VEVENT
UID:e14a0775-db17-4e60-ae33-fe82f22b8d04
DTSTAMP:20230303T171330Z
SUMMARY:ARIA Editors
DTSTART;TZID=America/New_York:20221111T120000
DTEND;TZID=America/New_York:20221111T130000
DESCRIPTION:https://www.w3.org/events/meetings/e14a0775-db17-4e60-ae33-fe82
 f22b8d04/20221111T120000/\n\n
STATUS:CONFIRMED
CREATED:20221004T143901Z
LAST-MODIFIED:20230303T171330Z
SEQUENCE:1
ORGANIZER;CN=W3C Calendar;PARTSTAT=ACCEPTED;ROLE=NON-PARTICIPANT:mailto:nor
 eply@w3.org
ATTENDEE;CUTYPE=GROUP;ROLE=OPT-PARTICIPANT;RSVP=FALSE;CN=ARIA Editors:mailt
 o:public-aria-editors@w3.org
RECURRENCE-ID;TZID=America/New_York:20221111T120000
END:VEVENT
END:VCALENDAR
