BEGIN:VCALENDAR
VERSION:2.0
PRODID:-//Sabre//Sabre VObject 4.5.8//EN
CALSCALE:GREGORIAN
LAST-MODIFIED:20250122T171132Z
BEGIN:VTIMEZONE
TZID:America/New_York
X-MICROSOFT-CDO-TZID:10
BEGIN:DAYLIGHT
DTSTART:20240310T070000
TZOFFSETFROM:-0500
TZOFFSETTO:-0400
TZNAME:EDT
END:DAYLIGHT
BEGIN:DAYLIGHT
DTSTART:20250309T070000
TZOFFSETFROM:-0500
TZOFFSETTO:-0400
TZNAME:EDT
END:DAYLIGHT
BEGIN:STANDARD
DTSTART:20241103T060000
TZOFFSETFROM:-0400
TZOFFSETTO:-0500
TZNAME:EST
END:STANDARD
END:VTIMEZONE
BEGIN:VEVENT
UID:e133b24e-8245-4ee7-8550-ac14d0334974
DTSTAMP:20250122T171132Z
SUMMARY:VCWG Meeting
DTSTART;TZID=America/New_York:20250122T110000
DTEND;TZID=America/New_York:20250122T120000
DESCRIPTION:https://www.w3.org/events/meetings/e133b24e-8245-4ee7-8550-ac14
 d0334974/20250122T110000/\n\nThe regular meeting for the Verifiable Creden
 tials Working Group.\n\nAgenda\n\n### Date and Time:\nWednesday 22 Jan 202
 5\nTime: 11:00 AM Boston (60min)\nLocal date/time link: https://www.timean
 ddate.com/worldclock/fixedtime.html?msg=VCWG+Meeting&iso=20250122T11&p1=43
 &ah=1\n\n### SPECIAL NOTE\, if any:\n\n\n### Scribe list: \nDavidL\, Jenni
 eM\, AnilJ\, PhilL\, MikeJones\, GabeC\, JAndrieu\, DmitriZ\, DavidC\, Ben
 Y\, ManuS\, KDean\, WesS\, Dave\, WillA\n\n### Meeting Chair:\nIvan Herman
 \n\n### Topics (time)\n1-Agenda Review\, Introductions  (5 min)\n2-VCDM - 
 ""Discuss"" Issues [1] (10 min)\n3-Controlled Identifiers - ""Discuss"" Is
 sues [2] (15 min)\n4-Data Integrity - ""Discuss"" Issues [3] (10 min)\n5-D
 ata Integrity EDDSA - ""Discuss"" Issues [4] (10 min)\n\n#### Links\n[1] h
 ttps://github.com/w3c/vc-data-model/issues?q=is%3Aissue%20state%3Aopen%20l
 abel%3Adiscuss\n[2] https://github.com/w3c/cid/issues?q=is%3Aissue%20state
 %3Aopen%20label%3Adiscuss\n[3] https://github.com/w3c/vc-data-integrity/is
 sues?q=is%3Aissue%20state%3Aopen%20label%3Adiscuss\n[4] https://github.com
 /w3c/vc-di-eddsa/issues?q=is%3Aissue%20state%3Aopen%20label%3Adiscuss\n\n#
 ## Issues marked pending close:\nAs of the time this email was sent\, the 
 following issues and PRs were marked 'pending close':\n\nThere are no pend
 ing close issues\n\nFor an up to date list of the current set of 'pending 
 close' issues\, please see: \nhttps://github.com/w3c/vc-data-model/issues?
 q=is%3Aissue+is%3Aopen+sort%3Aupdated-asc+label%3A%22pending+close%22
STATUS:CONFIRMED
CREATED:20250120T224709Z
LAST-MODIFIED:20250122T171132Z
SEQUENCE:6
ORGANIZER;CN=W3C Calendar;PARTSTAT=ACCEPTED;ROLE=NON-PARTICIPANT:mailto:nor
 eply@w3.org
ATTENDEE;CUTYPE=GROUP;ROLE=OPT-PARTICIPANT;RSVP=FALSE;CN=Verifiable Credent
 ials Working Group:mailto:public-vc-wg@w3.org
RECURRENCE-ID;TZID=America/New_York:20250122T110000
END:VEVENT
END:VCALENDAR
