BEGIN:VCALENDAR
VERSION:2.0
PRODID:-//Sabre//Sabre VObject 4.5.8//EN
CALSCALE:GREGORIAN
LAST-MODIFIED:20220104T072831Z
BEGIN:VTIMEZONE
TZID:Etc/UTC
BEGIN:STANDARD
DTSTART:20201102T150000
TZOFFSETFROM:+0000
TZOFFSETTO:+0000
TZNAME:UTC
END:STANDARD
END:VTIMEZONE
BEGIN:VEVENT
UID:e08539c9-adb0-4b0a-abd1-290e4aaa5af4
DTSTAMP:20220104T072831Z
SUMMARY:WebRTC WG TPAC 2021 meeting
DTSTART;TZID=Etc/UTC:20211028T150000
DTEND;TZID=Etc/UTC:20211028T160000
DESCRIPTION:https://www.w3.org/events/meetings/e08539c9-adb0-4b0a-abd1-290e
 4aaa5af4/\n\n\n\nAgenda: https://www.w3.org/2011/04/webrtc/wiki/TPAC_2021#
 WebRTC_WG_Meeting
STATUS:CONFIRMED
CREATED:20211008T090730Z
LAST-MODIFIED:20220104T072831Z
SEQUENCE:1
ORGANIZER;CN=W3C Calendar;PARTSTAT=ACCEPTED;ROLE=NON-PARTICIPANT:mailto:nor
 eply@w3.org
ATTENDEE;CUTYPE=GROUP;ROLE=OPT-PARTICIPANT;RSVP=FALSE;CN=Web Real-Time Comm
 unications Working Group:mailto:public-webrtc@w3.org
END:VEVENT
END:VCALENDAR
