BEGIN:VCALENDAR
VERSION:2.0
PRODID:-//Sabre//Sabre VObject 4.5.8//EN
CALSCALE:GREGORIAN
LAST-MODIFIED:20211025T222511Z
BEGIN:VTIMEZONE
TZID:Etc/UTC
BEGIN:STANDARD
DTSTART:20201101T150000
TZOFFSETFROM:+0000
TZOFFSETTO:+0000
TZNAME:UTC
END:STANDARD
END:VTIMEZONE
BEGIN:VEVENT
UID:e0471fdb-3647-4c74-a040-8bbad6e475a2
DTSTAMP:20211025T222511Z
SUMMARY:VCWG TPAC Meeting
DTSTART;TZID=Etc/UTC:20211027T150000
DTEND;TZID=Etc/UTC:20211027T170000
DESCRIPTION:https://www.w3.org/events/meetings/e0471fdb-3647-4c74-a040-8bba
 d6e475a2/\n\nExtended meeting time for the VCWG during TPAC\n\nAgenda: htt
 ps://www.w3.org/events/meetings/e0471fdb-3647-4c74-a040-8bbad6e475a2/#agen
 da\n\nAgenda\n\n- Welcome/Introductions/Logistics\n  - Scribes\n  - Agenda
  Review\n- Current Status of Revised Recommendation\n- v1.1 Issue Processi
 ng\n  - What can folks commit to get done in by the end of November?\n  - 
 What should move to v2?
STATUS:CONFIRMED
CREATED:20210929T231024Z
LAST-MODIFIED:20211025T222511Z
SEQUENCE:1
ORGANIZER;CN=W3C Calendar;PARTSTAT=ACCEPTED;ROLE=NON-PARTICIPANT:mailto:nor
 eply@w3.org
ATTENDEE;CUTYPE=GROUP;ROLE=OPT-PARTICIPANT;RSVP=FALSE;CN=Verifiable Credent
 ials Working Group:mailto:public-vc-wg@w3.org
END:VEVENT
END:VCALENDAR
