BEGIN:VCALENDAR
VERSION:2.0
PRODID:-//Sabre//Sabre VObject 4.5.8//EN
CALSCALE:GREGORIAN
LAST-MODIFIED:20231213T163043Z
BEGIN:VTIMEZONE
TZID:America/New_York
X-MICROSOFT-CDO-TZID:10
BEGIN:DAYLIGHT
DTSTART:20220313T070000
TZOFFSETFROM:-0500
TZOFFSETTO:-0400
TZNAME:EDT
END:DAYLIGHT
BEGIN:DAYLIGHT
DTSTART:20230312T070000
TZOFFSETFROM:-0500
TZOFFSETTO:-0400
TZNAME:EDT
END:DAYLIGHT
BEGIN:DAYLIGHT
DTSTART:20240310T070000
TZOFFSETFROM:-0500
TZOFFSETTO:-0400
TZNAME:EDT
END:DAYLIGHT
BEGIN:STANDARD
DTSTART:20221106T060000
TZOFFSETFROM:-0400
TZOFFSETTO:-0500
TZNAME:EST
END:STANDARD
BEGIN:STANDARD
DTSTART:20231105T060000
TZOFFSETFROM:-0400
TZOFFSETTO:-0500
TZNAME:EST
END:STANDARD
BEGIN:STANDARD
DTSTART:20241103T060000
TZOFFSETFROM:-0400
TZOFFSETTO:-0500
TZNAME:EST
END:STANDARD
END:VTIMEZONE
BEGIN:VEVENT
UID:dfc9dcad-969d-4a07-8549-f3b876e4eb00
DTSTAMP:20230523T213154Z
SUMMARY:PWE Meeting
DTSTART;TZID=America/New_York:20230117T100000
DTEND;TZID=America/New_York:20230117T110000
DESCRIPTION:https://www.w3.org/events/meetings/dfc9dcad-969d-4a07-8549-f3b8
 76e4eb00/\n\n
STATUS:CONFIRMED
CREATED:20230103T140331Z
LAST-MODIFIED:20230523T213154Z
SEQUENCE:3
ORGANIZER;CN=W3C Calendar;PARTSTAT=ACCEPTED;ROLE=NON-PARTICIPANT:mailto:nor
 eply@w3.org
ATTENDEE;CUTYPE=GROUP;ROLE=OPT-PARTICIPANT;RSVP=FALSE;CN=Positive Work Envi
 ronment Community Group:mailto:public-pwe@w3.org
RRULE:FREQ=WEEKLY;UNTIL=20231226T150000Z;INTERVAL=2;BYDAY=TU;WKST=MO
END:VEVENT
BEGIN:VEVENT
UID:dfc9dcad-969d-4a07-8549-f3b876e4eb00
DTSTAMP:20230523T213154Z
SUMMARY:PWE Meeting
DTSTART;TZID=America/New_York:20230606T100000
DTEND;TZID=America/New_York:20230606T110000
DESCRIPTION:https://www.w3.org/events/meetings/dfc9dcad-969d-4a07-8549-f3b8
 76e4eb00/20230606T100000/\n\n
STATUS:CONFIRMED
CREATED:20230519T193911Z
LAST-MODIFIED:20230523T213154Z
SEQUENCE:2
ORGANIZER;CN=W3C Calendar;PARTSTAT=ACCEPTED;ROLE=NON-PARTICIPANT:mailto:nor
 eply@w3.org
ATTENDEE;CUTYPE=GROUP;ROLE=OPT-PARTICIPANT;RSVP=FALSE;CN=Positive Work Envi
 ronment Community Group:mailto:public-pwe@w3.org
RECURRENCE-ID;TZID=America/New_York:20230606T100000
END:VEVENT
BEGIN:VEVENT
UID:dfc9dcad-969d-4a07-8549-f3b876e4eb00
DTSTAMP:20230704T140621Z
SUMMARY:PWE Meeting
DTSTART;TZID=America/New_York:20230704T100000
DTEND;TZID=America/New_York:20230704T110000
DESCRIPTION:https://www.w3.org/events/meetings/dfc9dcad-969d-4a07-8549-f3b8
 76e4eb00/20230704T100000/\n\n
STATUS:CANCELLED
CREATED:20230704T140621Z
LAST-MODIFIED:20230704T140621Z
SEQUENCE:4
ORGANIZER;CN=W3C Calendar;PARTSTAT=ACCEPTED;ROLE=NON-PARTICIPANT:mailto:nor
 eply@w3.org
ATTENDEE;CUTYPE=GROUP;ROLE=OPT-PARTICIPANT;RSVP=FALSE;CN=Positive Work Envi
 ronment Community Group:mailto:public-pwe@w3.org
RECURRENCE-ID;TZID=America/New_York:20230704T100000
END:VEVENT
BEGIN:VEVENT
UID:dfc9dcad-969d-4a07-8549-f3b876e4eb00
DTSTAMP:20230801T002849Z
SUMMARY:PWE Meeting
DTSTART;TZID=America/New_York:20230801T100000
DTEND;TZID=America/New_York:20230801T110000
DESCRIPTION:https://www.w3.org/events/meetings/dfc9dcad-969d-4a07-8549-f3b8
 76e4eb00/20230801T100000/\n\n
STATUS:CANCELLED
CREATED:20230801T002848Z
LAST-MODIFIED:20230801T002849Z
SEQUENCE:4
ORGANIZER;CN=W3C Calendar;PARTSTAT=ACCEPTED;ROLE=NON-PARTICIPANT:mailto:nor
 eply@w3.org
ATTENDEE;CUTYPE=GROUP;ROLE=OPT-PARTICIPANT;RSVP=FALSE;CN=Positive Work Envi
 ronment Community Group:mailto:public-pwe@w3.org
RECURRENCE-ID;TZID=America/New_York:20230801T100000
END:VEVENT
BEGIN:VEVENT
UID:dfc9dcad-969d-4a07-8549-f3b876e4eb00
DTSTAMP:20230906T145415Z
SUMMARY:PWE Meeting
DTSTART;TZID=America/New_York:20230912T100000
DTEND;TZID=America/New_York:20230912T110000
DESCRIPTION:https://www.w3.org/events/meetings/dfc9dcad-969d-4a07-8549-f3b8
 76e4eb00/20230912T100000/\n\nCancelling due to TPAC\, see you all Septembe
 r 26.
STATUS:CANCELLED
CREATED:20230829T191223Z
LAST-MODIFIED:20230906T145415Z
SEQUENCE:4
ORGANIZER;CN=W3C Calendar;PARTSTAT=ACCEPTED;ROLE=NON-PARTICIPANT:mailto:nor
 eply@w3.org
ATTENDEE;CUTYPE=GROUP;ROLE=OPT-PARTICIPANT;RSVP=FALSE;CN=Positive Work Envi
 ronment Community Group:mailto:public-pwe@w3.org
RECURRENCE-ID;TZID=America/New_York:20230912T100000
END:VEVENT
BEGIN:VEVENT
UID:dfc9dcad-969d-4a07-8549-f3b876e4eb00
DTSTAMP:20231213T163043Z
SUMMARY:PWE Meeting
DTSTART;TZID=America/New_York:20231219T100000
DTEND;TZID=America/New_York:20231219T110000
DESCRIPTION:https://www.w3.org/events/meetings/dfc9dcad-969d-4a07-8549-f3b8
 76e4eb00/20231219T100000/\n\nThis week's meeting is canceled\, enjoy your 
 holidays and we'll see you in the new year!
STATUS:CANCELLED
CREATED:20231213T163042Z
LAST-MODIFIED:20231213T163043Z
SEQUENCE:4
ORGANIZER;CN=W3C Calendar;PARTSTAT=ACCEPTED;ROLE=NON-PARTICIPANT:mailto:nor
 eply@w3.org
ATTENDEE;CUTYPE=GROUP;ROLE=OPT-PARTICIPANT;RSVP=FALSE;CN=Positive Work Envi
 ronment Community Group:mailto:public-pwe@w3.org
RECURRENCE-ID;TZID=America/New_York:20231219T100000
END:VEVENT
END:VCALENDAR
