BEGIN:VCALENDAR
VERSION:2.0
PRODID:-//Sabre//Sabre VObject 4.5.8//EN
CALSCALE:GREGORIAN
LAST-MODIFIED:20220914T233642Z
BEGIN:VTIMEZONE
TZID:America/Vancouver
BEGIN:STANDARD
DTSTART:20211107T090000
TZOFFSETFROM:-0700
TZOFFSETTO:-0800
TZNAME:PST
END:STANDARD
BEGIN:STANDARD
DTSTART:20221106T090000
TZOFFSETFROM:-0700
TZOFFSETTO:-0800
TZNAME:PST
END:STANDARD
BEGIN:DAYLIGHT
DTSTART:20220313T100000
TZOFFSETFROM:-0800
TZOFFSETTO:-0700
TZNAME:PDT
END:DAYLIGHT
END:VTIMEZONE
BEGIN:VEVENT
UID:dfc0564d-e1ba-43f2-b15f-fe02fd5b3085
DTSTAMP:20220914T233642Z
SUMMARY:Topics API
DTSTART;TZID=America/Vancouver:20220914T163000
DTEND;TZID=America/Vancouver:20220914T173000
DESCRIPTION:https://www.w3.org/events/meetings/dfc0564d-e1ba-43f2-b15f-fe02
 fd5b3085/\n\nBrief overview of Interest Based Advertising use case and the
  proposed Topics API as a solution. Informational. Most of the discussion 
 focused on Q/A and driving thorny issues forward.\n\nAgenda\n\n**Facilitat
 ors & speakers**: Josh Karlin\n\n**Session type**: Short presentation foll
 owed by open discussion.\n\n**Summary**: Brief overview of Interest Based 
 Advertising use case and the proposed Topics API as a solution. Informatio
 nal. Most of the discussion focused on Q/A and driving thorny issues forwa
 rd. \n\n**Goals**:\n- Learn about concerns from other browsers\, look for 
 places we can align.\n\nJoining Instructions: https://us02web.zoom.us/j/56
 06146353?pwd=UW43YWxLLzI2bGtXZjJRZzFXN0ZzZz09\n\nChat\n\nhttps://irc.w3.or
 g/?channels=%23topics-api
STATUS:CONFIRMED
CREATED:20220909T111710Z
LAST-MODIFIED:20220914T233642Z
SEQUENCE:1
ORGANIZER;CN=W3C Calendar;PARTSTAT=ACCEPTED;ROLE=NON-PARTICIPANT:mailto:nor
 eply@w3.org
ATTENDEE;CN=Christian Biesinger:mailto:cbiesinger@google.com
ATTENDEE;CN=Aykut Bulut:mailto:aykutb@google.com
ATTENDEE;CN=Alex Cone:mailto:alex.cone@iabtechlab.com
ATTENDEE;CN=Domenic Denicola:mailto:d@domenic.me
ATTENDEE;CN=Nick Doty:mailto:ndoty@cdt.org
ATTENDEE;CN=Chris Fredrickson:mailto:cfredric@google.com
ATTENDEE;CN=Sam Goto:mailto:goto@google.com
ATTENDEE;CN=Charlie Harrison:mailto:csharrison@google.com
ATTENDEE;CN=Leeron Israel:mailto:leeronisrael@google.com
ATTENDEE;CN=Richa Jain:mailto:richaj@fb.com
ATTENDEE;CN=Artur Janc:mailto:aaj@google.com
ATTENDEE;CN=Michael Kleber:mailto:kleber@google.com
ATTENDEE;CN=Camille Lamy:mailto:clamy@google.com
ATTENDEE;CN=Yifan Luo:mailto:lyf@google.com
ATTENDEE;CN=Brian May:mailto:imbmaydst@gmail.com
ATTENDEE;CN=Graham Mudd:mailto:gmudd@mozilla.com
ATTENDEE;CN=Michael O'Neill:mailto:mike@baycloud.ie
ATTENDEE;CN=Daniel Rojas:mailto:darojas@google.com
ATTENDEE;CN=Sid Sahoo:mailto:sidsahoo@google.com
ATTENDEE;CN=Rachit Sharma:mailto:rachit@iabtechlab.com
ATTENDEE;CN=Russell Stringham:mailto:rstringh@adobe.com
ATTENDEE;CN=Sergey Tumakha:mailto:stumakha@microsoft.com
ATTENDEE;CN=Chris Wilson:mailto:cwilso@gmail.com
ATTENDEE;CN=Jeffrey Yasskin:mailto:jyasskin@google.com
LOCATION:Burrard — South Tower 4th floor
CATEGORIES:TPAC 2022,Breakout Sessions
END:VEVENT
END:VCALENDAR
