BEGIN:VCALENDAR
VERSION:2.0
PRODID:-//Sabre//Sabre VObject 4.5.8//EN
CALSCALE:GREGORIAN
LAST-MODIFIED:20211112T154352Z
BEGIN:VTIMEZONE
TZID:America/New_York
X-MICROSOFT-CDO-TZID:10
BEGIN:STANDARD
DTSTART:20201101T060000
TZOFFSETFROM:-0400
TZOFFSETTO:-0500
TZNAME:EST
END:STANDARD
BEGIN:STANDARD
DTSTART:20211107T060000
TZOFFSETFROM:-0400
TZOFFSETTO:-0500
TZNAME:EST
END:STANDARD
BEGIN:STANDARD
DTSTART:20221106T060000
TZOFFSETFROM:-0400
TZOFFSETTO:-0500
TZNAME:EST
END:STANDARD
BEGIN:DAYLIGHT
DTSTART:20210314T070000
TZOFFSETFROM:-0500
TZOFFSETTO:-0400
TZNAME:EDT
END:DAYLIGHT
BEGIN:DAYLIGHT
DTSTART:20220313T070000
TZOFFSETFROM:-0500
TZOFFSETTO:-0400
TZNAME:EDT
END:DAYLIGHT
END:VTIMEZONE
BEGIN:VEVENT
UID:df3bc825-f9ee-43de-9535-7e32ddefce4d
DTSTAMP:20210818T063357Z
SUMMARY:EPUB WG Accessibility TF
DTSTART;TZID=America/New_York:20210826T100000
DTEND;TZID=America/New_York:20210826T110000
DESCRIPTION:https://www.w3.org/events/meetings/df3bc825-f9ee-43de-9535-7e32
 ddefce4d/\n\n
STATUS:CONFIRMED
CREATED:20210817T123918Z
LAST-MODIFIED:20210818T063357Z
SEQUENCE:2
ORGANIZER;CN=W3C Calendar;PARTSTAT=ACCEPTED;ROLE=NON-PARTICIPANT:mailto:nor
 eply@w3.org
ATTENDEE;CUTYPE=GROUP;ROLE=OPT-PARTICIPANT;RSVP=FALSE;CN=EPUB 3 Working Gro
 up:mailto:public-epub-wg@w3.org
RRULE:FREQ=MONTHLY;UNTIL=20220825T140000Z;INTERVAL=1;BYDAY=TH;BYSETPOS=4;WK
 ST=MO
END:VEVENT
BEGIN:VEVENT
UID:df3bc825-f9ee-43de-9535-7e32ddefce4d
DTSTAMP:20210825T094203Z
SUMMARY:EPUB WG Accessibility TF
DTSTART;TZID=America/New_York:20210826T100000
DTEND;TZID=America/New_York:20210826T110000
DESCRIPTION:https://www.w3.org/events/meetings/df3bc825-f9ee-43de-9535-7e32
 ddefce4d/20210826T100000/\n\n\n\nAgenda: https://lists.w3.org/Archives/Pub
 lic/public-epub-wg/2021Aug/0028.html
STATUS:CONFIRMED
CREATED:20210825T094202Z
LAST-MODIFIED:20210825T094203Z
SEQUENCE:2
ORGANIZER;CN=W3C Calendar;PARTSTAT=ACCEPTED;ROLE=NON-PARTICIPANT:mailto:nor
 eply@w3.org
ATTENDEE;CUTYPE=GROUP;ROLE=OPT-PARTICIPANT;RSVP=FALSE;CN=EPUB 3 Working Gro
 up:mailto:public-epub-wg@w3.org
RECURRENCE-ID;TZID=America/New_York:20210826T100000
END:VEVENT
BEGIN:VEVENT
UID:df3bc825-f9ee-43de-9535-7e32ddefce4d
DTSTAMP:20210923T152026Z
SUMMARY:EPUB WG Accessibility TF
DTSTART;TZID=America/New_York:20210923T100000
DTEND;TZID=America/New_York:20210923T110000
DESCRIPTION:https://www.w3.org/events/meetings/df3bc825-f9ee-43de-9535-7e32
 ddefce4d/20210923T100000/\n\n\n\nAgenda: https://www.w3.org/mid/74E483A09F
 F74B39B318D1743A8B2CC7@DESKTOPG923ARA\n\nAgenda\n\n1. EPUB Accessibility F
 AQ: #1817\nhttps://github.com/w3c/epub-specs/issues/1817\n \n2. Add techni
 que explaining WCAG 2.4.6 passes for all publication headings: #1810\nhttp
 s://github.com/w3c/epub-specs/issues/1810\n \n3. Informative note for Unic
 ode in EPUB accessibility: #1790\nhttps://github.com/w3c/epub-specs/issues
 /1790\n \n4. Normative references to a specification of metadata propertie
 s are needed.:#1799 (upate the task force)\nhttps://github.com/w3c/epub-sp
 ecs/issues/1799\n \n5. Reminder: Pull requests and GitHub issues to review
  and comment:\nEPUB Accessibility 1.1 and FXL: Issue #1814\nhttps://github
 .com/w3c/epub-specs/pull/1818\n \nHow to identify WCAG A or AA with confor
 msto: Issue #1791\nhttps://github.com/w3c/epub-specs/pull/1815\n \nIs zero
  tolerance for accessibility conformance practical: issue #1767\nhttps://g
 ithub.com/w3c/epub-specs/issues/1767\n \n6. Any other business.\n \nEPUB a
 ccessibility specifications:\nhttps://w3c.github.io/epub-specs/epub33/a11y
 /index.html\n \nTechniques:\nhttps://w3c.github.io/epub-specs/epub33/a11y-
 tech/index.html\n \nIssue tracker:\nhttps://github.com/w3c/epub-specs/issu
 es?q=is%3Aopen+is%3Aissue+label%3ACat-Accessibility
STATUS:CONFIRMED
CREATED:20210923T131858Z
LAST-MODIFIED:20210923T152026Z
SEQUENCE:2
ORGANIZER;CN=W3C Calendar;PARTSTAT=ACCEPTED;ROLE=NON-PARTICIPANT:mailto:nor
 eply@w3.org
ATTENDEE;CUTYPE=GROUP;ROLE=OPT-PARTICIPANT;RSVP=FALSE;CN=EPUB 3 Working Gro
 up:mailto:public-epub-wg@w3.org
RECURRENCE-ID;TZID=America/New_York:20210923T100000
END:VEVENT
BEGIN:VEVENT
UID:df3bc825-f9ee-43de-9535-7e32ddefce4d
DTSTAMP:20211112T154352Z
SUMMARY:EPUB WG Accessibility TF
DTSTART;TZID=America/New_York:20211125T100000
DTEND;TZID=America/New_York:20211125T110000
DESCRIPTION:https://www.w3.org/events/meetings/df3bc825-f9ee-43de-9535-7e32
 ddefce4d/20211125T100000/\n\n
STATUS:CANCELLED
CREATED:20211112T154351Z
LAST-MODIFIED:20211112T154352Z
SEQUENCE:3
ORGANIZER;CN=W3C Calendar;PARTSTAT=ACCEPTED;ROLE=NON-PARTICIPANT:mailto:nor
 eply@w3.org
ATTENDEE;CUTYPE=GROUP;ROLE=OPT-PARTICIPANT;RSVP=FALSE;CN=EPUB 3 Working Gro
 up:mailto:public-epub-wg@w3.org
RECURRENCE-ID;TZID=America/New_York:20211125T100000
END:VEVENT
END:VCALENDAR
