BEGIN:VCALENDAR
VERSION:2.0
PRODID:-//Sabre//Sabre VObject 4.5.8//EN
CALSCALE:GREGORIAN
LAST-MODIFIED:20220113T061010Z
BEGIN:VTIMEZONE
TZID:America/Los_Angeles
X-MICROSOFT-CDO-TZID:13
BEGIN:DAYLIGHT
DTSTART:20210314T100000
TZOFFSETFROM:-0800
TZOFFSETTO:-0700
TZNAME:PDT
END:DAYLIGHT
BEGIN:DAYLIGHT
DTSTART:20220313T100000
TZOFFSETFROM:-0800
TZOFFSETTO:-0700
TZNAME:PDT
END:DAYLIGHT
BEGIN:STANDARD
DTSTART:20211107T090000
TZOFFSETFROM:-0700
TZOFFSETTO:-0800
TZNAME:PST
END:STANDARD
END:VTIMEZONE
BEGIN:VEVENT
UID:dee15e2a-e84d-4fbf-973b-1b26e61965e4
DTSTAMP:20220113T061010Z
SUMMARY:January 2022 long-form call
DTSTART;TZID=America/Los_Angeles:20220119T080000
DTEND;TZID=America/Los_Angeles:20220119T100000
DESCRIPTION:https://www.w3.org/events/meetings/dee15e2a-e84d-4fbf-973b-1b26
 e61965e4/\n\nCall details will be shared on our private mailing list. \nAg
 enda for the call will be at: https://github.com/w3c/csswg-drafts/projects
 /29
STATUS:CONFIRMED
CREATED:20220113T061009Z
LAST-MODIFIED:20220113T061010Z
SEQUENCE:0
ORGANIZER;CN=W3C Calendar;PARTSTAT=ACCEPTED;ROLE=NON-PARTICIPANT:mailto:nor
 eply@w3.org
ATTENDEE;CUTYPE=GROUP;ROLE=OPT-PARTICIPANT;RSVP=FALSE;CN=Cascading Style Sh
 eets (CSS) Working Group:mailto:www-style@w3.org
END:VEVENT
END:VCALENDAR
