BEGIN:VCALENDAR
VERSION:2.0
PRODID:-//Sabre//Sabre VObject 4.5.8//EN
CALSCALE:GREGORIAN
LAST-MODIFIED:20250602T195450Z
BEGIN:VTIMEZONE
TZID:America/New_York
X-MICROSOFT-CDO-TZID:10
BEGIN:STANDARD
DTSTART:20241103T060000
TZOFFSETFROM:-0400
TZOFFSETTO:-0500
TZNAME:EST
END:STANDARD
BEGIN:STANDARD
DTSTART:20251102T060000
TZOFFSETFROM:-0400
TZOFFSETTO:-0500
TZNAME:EST
END:STANDARD
BEGIN:DAYLIGHT
DTSTART:20250309T070000
TZOFFSETFROM:-0500
TZOFFSETTO:-0400
TZNAME:EDT
END:DAYLIGHT
END:VTIMEZONE
BEGIN:VEVENT
UID:de8e5953-703c-45c4-b0ad-fc02d6804a4d
DTSTAMP:20250602T195450Z
SUMMARY:JSON-LD WG Meeting
DTSTART;TZID=America/New_York:20250604T120000
DTEND;TZID=America/New_York:20250604T125500
DESCRIPTION:https://www.w3.org/events/meetings/de8e5953-703c-45c4-b0ad-fc02
 d6804a4d/20250604T120000/\n\nThis will be an official WG meeting\, and we 
 will be working through open JSON-LD related PRs and issues:\nhttps://gith
 ub.com/orgs/w3c/projects/84\n\nAgenda\n\n1. Announcements and Introduction
 s\n-------\n\n2. JSON-LD Issue Discussion\n-------\n\nhttps://github.com/o
 rgs/w3c/projects/84\n\nSpecific issues/PRs to discuss:\n\n* w3c/json-ld-ap
 i#650 [0027-out.jsonld: @graph and value objects](https://github.com/w3c/j
 son-ld-api/pull/650)\n* w3c/json-ld-api#655 [t0112 and t0113 use 1.1-speci
 fic features](https://github.com/w3c/json-ld-api/pull/655)\n* json-ld/json
 -ld-star#61 [Updated test results for JSON-LD-star](https://github.com/jso
 n-ld/json-ld-star/pull/61)\n* w3c/json-ld-api#58 [Compaction cannot round-
 trip terms using `@container`: `@list` and `@type`: `@vocab`](https://gith
 ub.com/w3c/json-ld-api/issues/558)\n* w3c/json-ld-api#638 [address #630](h
 ttps://github.com/w3c/json-ld-api/pull/638)\n* w3c/json-ld-api#648 [Error 
 in fromRdf/0027-out.jsonld](https://github.com/w3c/json-ld-api/issues/648)
 \n* w3c/json-ld-api#659 [Compacted form for the "Serialize RDF as JSON-LD 
 Algorithm"](https://github.com/w3c/json-ld-api/issues/659)\n\n3.  Open Dis
 cussion\n-------\n\nOpen discussion and "Ask me Anything" on JSON-LD topic
 s.
STATUS:CONFIRMED
CREATED:20250602T195449Z
LAST-MODIFIED:20250602T195450Z
SEQUENCE:4
ORGANIZER;CN=W3C Calendar;PARTSTAT=ACCEPTED;ROLE=NON-PARTICIPANT:mailto:nor
 eply@w3.org
ATTENDEE;CUTYPE=GROUP;ROLE=OPT-PARTICIPANT;RSVP=FALSE;CN=JSON for Linked Da
 ta Community Group:mailto:public-json-ld@w3.org
ATTENDEE;CUTYPE=GROUP;ROLE=OPT-PARTICIPANT;RSVP=FALSE;CN=JSON-LD Working Gr
 oup:mailto:public-json-ld-wg@w3.org
RECURRENCE-ID;TZID=America/New_York:20250604T120000
END:VEVENT
END:VCALENDAR
