BEGIN:VCALENDAR
VERSION:2.0
PRODID:-//Sabre//Sabre VObject 4.5.8//EN
CALSCALE:GREGORIAN
LAST-MODIFIED:20251203T044425Z
BEGIN:VTIMEZONE
TZID:America/Los_Angeles
X-MICROSOFT-CDO-TZID:13
BEGIN:DAYLIGHT
DTSTART:20250309T100000
TZOFFSETFROM:-0800
TZOFFSETTO:-0700
TZNAME:PDT
END:DAYLIGHT
BEGIN:DAYLIGHT
DTSTART:20260308T100000
TZOFFSETFROM:-0800
TZOFFSETTO:-0700
TZNAME:PDT
END:DAYLIGHT
BEGIN:STANDARD
DTSTART:20251102T090000
TZOFFSETFROM:-0700
TZOFFSETTO:-0800
TZNAME:PST
END:STANDARD
END:VTIMEZONE
BEGIN:VEVENT
UID:de82c11f-a06f-4bf1-bb94-bd968af528e1
DTSTAMP:20251203T044425Z
SUMMARY:DID Working Group Meeting
DTSTART;TZID=America/Los_Angeles:20251204T080000
DTEND;TZID=America/Los_Angeles:20251204T090000
DESCRIPTION:https://www.w3.org/events/meetings/de82c11f-a06f-4bf1-bb94-bd96
 8af528e1/20251204T080000/\n\nThe regular meeting for the Decentralized Ide
 ntifier Working Group.\n\nAgenda\n\nThursday 04 Dec 2025\n\nConnection det
 ails at end of note\n\nScribe list: DavidL\, PhilA\, TedT\, TylerM\, Wesle
 yS\, JennieM\, BrunoV\, JamesE\, DanP\, DrummondR\, Denken\, ChristopherA\
 , tweeddalex\, PhilipL\, SteveM\, JoeA\,  MarkusS\, PA\, BenjaminY\, Manu 
 S\, Dimitriz\, KevinD\, WillA\, Otto\, swcurran \n\n\nMeeting Chair: ottom
 orac\n\n\nTopic (time)\n1-Agenda Review\, Introductions  (5 min)\n2-Debrie
 f from TPAC  (5 min)\n3-DID Resolution PR Processing [1] (15 min)\n4-Uncle
 ar definition of ""Read"" operation for DID methods #230 [2] (7 min)\n5-DI
 D Resolution Issue Processing [3] (25 min)\n\n============================
 ====\n= did-core issues marked pending close =\n==========================
 ======\nAs of the time this email was sent\, the following did-core issues
  were marked 'pending close':\n\nThere are no pending close issues\n\n\nFo
 r an up to date list of the current set of 'pending close' issues\, please
  see: \nhttps://github.com/w3c/did-core/issues?q=is%3Aissue+is%3Aopen+sort
 %3Aupdated-asc+label%3A%22pending+close%22\n\n============================
 ====\n= did-resolution issues marked pending close =\n====================
 ============\nAs of the time this email was sent\, the following did-resol
 ution issues were marked 'pending close':\n\nThere are no pending close is
 sues\n\n\nFor an up to date list of the current set of 'pending close' iss
 ues\, please see: \nhttps://github.com/w3c/did-resolution/issues?q=is%3Ais
 sue+is%3Aopen+sort%3Aupdated-asc+label%3A%22pending+close%22\n\nLinks\n[1]
  https://github.com/w3c/did-resolution/pulls\n[2] https://github.com/w3c/d
 id-resolution/issues/230\n[3] https://github.com/w3c/did-resolution/issues
 ?q=is%3Aissue%20state%3Aopen%20label%3Atag-needs-resolution%20sort%3Aupdat
 ed-asc\n\n=================\n= Connection details =\n=================\nTe
 xt Chat: hhttps://webirc.w3.org/#/connect?channels=did\nIRC://irc.w3.org:6
 665/#did\n\n=================\nThe DID WG relies on IRC in our weekly call
  to encourage meeting participation\, document our discussions\, vote on r
 esolutions and manage the speaker queue\, etc. For more information about 
 IRC in w3.org\, please review https://www.w3.org/wiki/IRC"
STATUS:CONFIRMED
CREATED:20251203T044423Z
LAST-MODIFIED:20251203T044425Z
SEQUENCE:0
ORGANIZER;CN=W3C Calendar;PARTSTAT=ACCEPTED;ROLE=NON-PARTICIPANT:mailto:nor
 eply@w3.org
ATTENDEE;CUTYPE=GROUP;ROLE=OPT-PARTICIPANT;RSVP=FALSE;CN=Decentralized Iden
 tifier Working Group:mailto:public-did-wg@w3.org
LOCATION:https://w3c.zoom.us/j/82107835958?pwd=skqaa9teeNJuNtIKqV1pJjafJRcy
 A4.1
RECURRENCE-ID;TZID=America/Los_Angeles:20251204T080000
END:VEVENT
END:VCALENDAR
