BEGIN:VCALENDAR
VERSION:2.0
PRODID:-//Sabre//Sabre VObject 4.5.8//EN
CALSCALE:GREGORIAN
LAST-MODIFIED:20251201T161524Z
BEGIN:VTIMEZONE
TZID:America/Los_Angeles
X-MICROSOFT-CDO-TZID:13
BEGIN:STANDARD
DTSTART:20241103T090000
TZOFFSETFROM:-0700
TZOFFSETTO:-0800
TZNAME:PST
END:STANDARD
BEGIN:STANDARD
DTSTART:20251102T090000
TZOFFSETFROM:-0700
TZOFFSETTO:-0800
TZNAME:PST
END:STANDARD
BEGIN:DAYLIGHT
DTSTART:20250309T100000
TZOFFSETFROM:-0800
TZOFFSETTO:-0700
TZNAME:PDT
END:DAYLIGHT
END:VTIMEZONE
BEGIN:VEVENT
UID:de82c11f-a06f-4bf1-bb94-bd968af528e1
DTSTAMP:20251201T161524Z
SUMMARY:DID Working Group Meeting
DTSTART;TZID=America/Los_Angeles:20251023T080000
DTEND;TZID=America/Los_Angeles:20251023T090000
DESCRIPTION:https://www.w3.org/events/meetings/de82c11f-a06f-4bf1-bb94-bd96
 8af528e1/20251023T080000/\n\nThe regular meeting for the Decentralized Ide
 ntifier Working Group.\n\nAgenda\n\n"Thursday 23 Oct 2025\nTime: 11:00 AM 
 Boston (60min)\nLocal date/time link: https://www.timeanddate.com/worldclo
 ck/fixedtime.html?msg=DID+WG+Meeting&iso=20251023T11&p1=43&ah=1\n\nConnect
 ion details at end of note\n\nScribe list: DavidL\, PhilA\, TedT\, TylerM\
 , WesleyS\, JennieM\, BrunoV\, JamesE\, DanP\, DrummondR\, Denken\, Christ
 opherA\, tweeddalex\, PhilipL\, SteveM\, JoeA\,  MarkusS\, swcurran\, PA\,
  BenjaminY\, Manu S\, Dimitriz\, Otto\, KevinD\, WillA\n\n\nMeeting Chair:
  Will A\n\n\nTopic (time)\n1-Agenda Review\, Introductions  (5 min)\n2-DID
  URL Dereferencing PR  (20 min)\n3-Make conformance statements concretely 
 testable #213 [2] (5 min)\n4-Review Issue Flags throughout DID Resolution 
 document [3] (5 min)\n5-DID Resolution Issue Processing [4] (20 min)\n\n==
 ==============================\n= did-core issues marked pending close =\n
 ================================\nAs of the time this email was sent\, the
  following did-core issues were marked 'pending close':\n\nThere are no pe
 nding close issues\n\n\nFor an up to date list of the current set of 'pend
 ing close' issues\, please see: \nhttps://github.com/w3c/did-core/issues?q
 =is%3Aissue+is%3Aopen+sort%3Aupdated-asc+label%3A%22pending+close%22\n\n==
 ==============================\n= did-resolution issues marked pending clo
 se =\n================================\nAs of the time this email was sent
 \, the following did-resolution issues were marked 'pending close':\n\nIss
 ue 172: https://github.com/w3c/did-resolution/issues/172\nIssue 161: https
 ://github.com/w3c/did-resolution/issues/161\nIssue 174: https://github.com
 /w3c/did-resolution/issues/174\nIssue 177: https://github.com/w3c/did-reso
 lution/issues/177\nIssue 190: https://github.com/w3c/did-resolution/issues
 /190\n\n\nFor an up to date list of the current set of 'pending close' iss
 ues\, please see: \nhttps://github.com/w3c/did-resolution/issues?q=is%3Ais
 sue+is%3Aopen+sort%3Aupdated-asc+label%3A%22pending+close%22\n\nLinks\n[2]
  https://github.com/w3c/did-resolution/issues/213\n[3] https://github.com/
 w3c/did-resolution/issues/220\n[4] https://github.com/w3c/did-resolution/i
 ssues?q=is%3Aissue%20state%3Aopen%20label%3Adiscuss\n\n=================\n
 = Connection details =\n=================\nText Chat: hhttps://webirc.w3.o
 rg/#/connect?channels=did\nIRC://irc.w3.org:6665/#did\n\n=================
 \nThe DID WG relies on IRC in our weekly call to encourage meeting partici
 pation\, document our discussions\, vote on resolutions and manage the spe
 aker queue\, etc. For more information about IRC in w3.org\, please review
  https://www.w3.org/wiki/IRC"
STATUS:CONFIRMED
CREATED:20251021T152635Z
LAST-MODIFIED:20251201T161524Z
SEQUENCE:0
ORGANIZER;CN=W3C Calendar;PARTSTAT=ACCEPTED;ROLE=NON-PARTICIPANT:mailto:nor
 eply@w3.org
ATTENDEE;CUTYPE=GROUP;ROLE=OPT-PARTICIPANT;RSVP=FALSE;CN=Decentralized Iden
 tifier Working Group:mailto:public-did-wg@w3.org
LOCATION:https://w3c.zoom.us/j/82107835958?pwd=skqaa9teeNJuNtIKqV1pJjafJRcy
 A4.1
RECURRENCE-ID;TZID=America/Los_Angeles:20251023T080000
END:VEVENT
END:VCALENDAR
