BEGIN:VCALENDAR
VERSION:2.0
PRODID:-//Sabre//Sabre VObject 4.5.8//EN
CALSCALE:GREGORIAN
LAST-MODIFIED:20211111T133602Z
BEGIN:VTIMEZONE
TZID:Etc/UTC
BEGIN:STANDARD
DTSTART:20201108T200000
TZOFFSETFROM:+0000
TZOFFSETTO:+0000
TZNAME:UTC
END:STANDARD
END:VTIMEZONE
BEGIN:VEVENT
UID:ddacd726-e4b3-433c-9600-8b8c3fea431a
DTSTAMP:20211111T133602Z
SUMMARY:DCAT subgroup
DTSTART;TZID=Etc/UTC:20211103T200000
DTEND;TZID=Etc/UTC:20211103T210000
DESCRIPTION:https://www.w3.org/events/meetings/ddacd726-e4b3-433c-9600-8b8c
 3fea431a/20211103T200000/\n\nDCAT issues\n\n[Teleconference logistics](htt
 ps://www.w3.org/2017/dxwg/wiki/Meetings#How_to_connect_to_the_Data_Exchang
 e_Working_Group_weekly_call)\n\n[IRC](https://irc.w3.org/): #dxwgdcat on i
 rc.w3.org on port 6667\n\nAgenda: https://www.w3.org/2017/dxwg/wiki/Meetin
 gs
STATUS:TENTATIVE
CREATED:20211026T202840Z
LAST-MODIFIED:20211111T133602Z
SEQUENCE:2
ORGANIZER;CN=W3C Calendar;PARTSTAT=ACCEPTED;ROLE=NON-PARTICIPANT:mailto:nor
 eply@w3.org
ATTENDEE;CUTYPE=GROUP;ROLE=OPT-PARTICIPANT;RSVP=FALSE;CN=Dataset Exchange W
 orking Group:mailto:public-dxwg-wg@w3.org
ATTENDEE;CUTYPE=GROUP;ROLE=OPT-PARTICIPANT;RSVP=FALSE;CN=DCAT Task Force:ma
 ilto:noreply@w3.org
RECURRENCE-ID;TZID=Etc/UTC:20211103T200000
END:VEVENT
END:VCALENDAR
