BEGIN:VCALENDAR
VERSION:2.0
PRODID:-//Sabre//Sabre VObject 4.5.8//EN
CALSCALE:GREGORIAN
LAST-MODIFIED:20240923T191201Z
BEGIN:VTIMEZONE
TZID:America/Los_Angeles
X-MICROSOFT-CDO-TZID:13
BEGIN:STANDARD
DTSTART:20231105T090000
TZOFFSETFROM:-0700
TZOFFSETTO:-0800
TZNAME:PST
END:STANDARD
BEGIN:STANDARD
DTSTART:20241103T090000
TZOFFSETFROM:-0700
TZOFFSETTO:-0800
TZNAME:PST
END:STANDARD
BEGIN:DAYLIGHT
DTSTART:20240310T100000
TZOFFSETFROM:-0800
TZOFFSETTO:-0700
TZNAME:PDT
END:DAYLIGHT
END:VTIMEZONE
BEGIN:VEVENT
UID:dccfa810-ac8b-4894-9e94-a27eeaa5b84e
DTSTAMP:20240923T191201Z
SUMMARY:Web Application Security Working Group
DTSTART;TZID=America/Los_Angeles:20240923T090000
DTEND;TZID=America/Los_Angeles:20240923T123000
DESCRIPTION:https://www.w3.org/events/meetings/dccfa810-ac8b-4894-9e94-a27e
 eaa5b84e/\n\n\n\nAgenda: https://github.com/w3c/webappsec/blob/main/meetin
 gs/2024/2024-09-TPAC-agenda.md\n\nAgenda\n\n_WIP\, still some flexibility 
 based on feedback and availability._\n\n[23.09.2024\, 9:00 - 12:30](https:
 //www.w3.org/events/meetings/dccfa810-ac8b-4894-9e94-a27eeaa5b84e/): [2 Ba
 llroom Level - California B](https://www.w3.org/2024/09/TPAC/schedule.html
 #map)\n---------------------------------------------------------\n\n* **9:
 00 - 9:15**: ☕ and agenda bashing.\n* **9:15 - 9:45**: Crypto\n  * (~15m
 ) Web Crypto (@twiss)\n    * Algorithms (modernizing\, post-modernizing)\n
     * Curve 25591\n    * Streaming\n    * Feature Detection\n  * (~15m) [R
 emote cryptokeys](https://github.com/WebKit/explainers/tree/main/remote-cr
 yptokeys) (@marcoscaceres\, @estark37)\n* **9:45 - 10:30**: Application In
 tegrity/Transparency (@ddworken)\n  * (~25m) Extensions to SRI\n    * Addi
 tional content types\n    * Additional assertion types ([signatures](https
 ://github.com/mikewest/signature-based-sri)\, etc))\n    * `require-sri-fo
 r` (@yoavweiss)\n  * (~20m) Signing / Packaging\n* **10:30 - 11:00**: ☕ 
 & 🍰 @ [Lanai Deck\, Fifth Floor](https://www.w3.org/2024/09/TPAC/schedu
 le.html#map)\n* **11:00 - 12:00**: CSP\n    * (~15m) Should the threat mod
 el include exfiltration? (@yoavweiss)\n    * (~20m) How can we improve ado
 ption? (@simoneonofri\, @johnwilander)\n        * Docs & recommendations? 
  \n        * [CSP Next](https://github.com/WICG/csp-next)?\n    * (~15m) C
 ould we [require injection mitigation](https://mikewest.github.io/injectio
 n-mitigated/) for interesting APIs? (@mikewest)\n    * (~10m) What's left 
 before putting CSP into "living CR" mode?\n* **12:00 - 12:10**: https://gi
 thub.com/w3c/webappsec-permissions-policy/issues/273 (@sanketj)\n* **12:10
  - 12:30**: **Breakout pitch session**. There are a number of breakout ses
 sions ([grid](https://www.w3.org/2024/09/TPAC/breakouts.html#grid)\, [deta
 ils](https://www.w3.org/2024/09/TPAC/breakouts.html#intro)) on 25.09.2024 
 that are relevant to this community. Let's talk about them a bit so folks 
 can plan accordingly.
STATUS:CONFIRMED
CREATED:20240614T163317Z
LAST-MODIFIED:20240923T191201Z
SEQUENCE:5
ORGANIZER;CN=W3C Calendar;PARTSTAT=ACCEPTED;ROLE=NON-PARTICIPANT:mailto:nor
 eply@w3.org
ATTENDEE;CUTYPE=GROUP;ROLE=OPT-PARTICIPANT;RSVP=FALSE;CN=Web Application Se
 curity Working Group:mailto:public-webappsec@w3.org
LOCATION:2 Ballroom Level - California B
CATEGORIES:TPAC 2024,Group Meetings
END:VEVENT
END:VCALENDAR
