BEGIN:VCALENDAR
VERSION:2.0
PRODID:-//Sabre//Sabre VObject 4.5.8//EN
CALSCALE:GREGORIAN
LAST-MODIFIED:20220104T072735Z
BEGIN:VTIMEZONE
TZID:Etc/UTC
BEGIN:STANDARD
DTSTART:20200925T150000
TZOFFSETFROM:+0000
TZOFFSETTO:+0000
TZNAME:UTC
END:STANDARD
END:VTIMEZONE
BEGIN:VEVENT
UID:dbe0aeee-f03d-437f-8f6c-f8424921e9af
DTSTAMP:20220104T072735Z
SUMMARY:WebRTC WG September 2021 call
DTSTART;TZID=Etc/UTC:20210920T150000
DTEND;TZID=Etc/UTC:20210920T170000
DESCRIPTION:https://www.w3.org/events/meetings/dbe0aeee-f03d-437f-8f6c-f842
 4921e9af/\n\n\n\nAgenda: https://www.w3.org/2011/04/webrtc/wiki/September_
 20_2021
STATUS:CONFIRMED
CREATED:20210824T170305Z
LAST-MODIFIED:20220104T072735Z
SEQUENCE:0
ORGANIZER;CN=W3C Calendar;PARTSTAT=ACCEPTED;ROLE=NON-PARTICIPANT:mailto:nor
 eply@w3.org
ATTENDEE;CUTYPE=GROUP;ROLE=OPT-PARTICIPANT;RSVP=FALSE;CN=Web Real-Time Comm
 unications Working Group:mailto:public-webrtc@w3.org
END:VEVENT
END:VCALENDAR
