BEGIN:VCALENDAR
VERSION:2.0
PRODID:-//Sabre//Sabre VObject 4.5.8//EN
CALSCALE:GREGORIAN
LAST-MODIFIED:20251024T140647Z
BEGIN:VTIMEZONE
TZID:Europe/London
X-MICROSOFT-CDO-TZID:1
BEGIN:DAYLIGHT
DTSTART:20250330T010000
TZOFFSETFROM:+0000
TZOFFSETTO:+0100
TZNAME:BST
END:DAYLIGHT
BEGIN:DAYLIGHT
DTSTART:20260329T010000
TZOFFSETFROM:+0000
TZOFFSETTO:+0100
TZNAME:BST
END:DAYLIGHT
BEGIN:STANDARD
DTSTART:20251026T010000
TZOFFSETFROM:+0100
TZOFFSETTO:+0000
TZNAME:GMT
END:STANDARD
END:VTIMEZONE
BEGIN:VEVENT
UID:dba78f83-9a7e-4115-bf90-a4362ecbcddb
DTSTAMP:20251024T140647Z
SUMMARY:W3C Media & Entertainment IG meeting
DTSTART;TZID=Europe/London:20251104T150000
DTEND;TZID=Europe/London:20251104T160000
DESCRIPTION:https://www.w3.org/events/meetings/dba78f83-9a7e-4115-bf90-a436
 2ecbcddb/20251104T150000/\n\nThis meeting is cancelled. The November MEIG 
 meeting is at TPAC on November 10.
STATUS:CANCELLED
CREATED:20251023T180029Z
LAST-MODIFIED:20251024T140647Z
SEQUENCE:4
ORGANIZER;CN=W3C Calendar;PARTSTAT=ACCEPTED;ROLE=NON-PARTICIPANT:mailto:nor
 eply@w3.org
ATTENDEE;CUTYPE=GROUP;ROLE=OPT-PARTICIPANT;RSVP=FALSE;CN=Media and Entertai
 nment Interest Group:mailto:public-web-and-tv@w3.org
RECURRENCE-ID;TZID=Europe/London:20251104T150000
END:VEVENT
END:VCALENDAR
