BEGIN:VCALENDAR
VERSION:2.0
PRODID:-//Sabre//Sabre VObject 4.5.8//EN
CALSCALE:GREGORIAN
LAST-MODIFIED:20220414T100314Z
BEGIN:VTIMEZONE
TZID:Europe/Vienna
BEGIN:STANDARD
DTSTART:20211031T010000
TZOFFSETFROM:+0200
TZOFFSETTO:+0100
TZNAME:CET
END:STANDARD
BEGIN:STANDARD
DTSTART:20221030T010000
TZOFFSETFROM:+0200
TZOFFSETTO:+0100
TZNAME:CET
END:STANDARD
BEGIN:DAYLIGHT
DTSTART:20220327T010000
TZOFFSETFROM:+0100
TZOFFSETTO:+0200
TZNAME:CEST
END:DAYLIGHT
END:VTIMEZONE
BEGIN:VEVENT
UID:dac38b6b-93ca-48af-a5a3-353ca86ad626
DTSTAMP:20220414T100314Z
SUMMARY:ConsentCG Meeting 26 APR 2022
DTSTART;TZID=Europe/Vienna:20220426T170000
DTEND;TZID=Europe/Vienna:20220426T190000
DESCRIPTION:https://www.w3.org/events/meetings/dac38b6b-93ca-48af-a5a3-353c
 a86ad626/\n\n
STATUS:CONFIRMED
CREATED:20220414T100313Z
LAST-MODIFIED:20220414T100314Z
SEQUENCE:0
ORGANIZER;CN=W3C Calendar;PARTSTAT=ACCEPTED;ROLE=NON-PARTICIPANT:mailto:nor
 eply@w3.org
ATTENDEE;CUTYPE=GROUP;ROLE=OPT-PARTICIPANT;RSVP=FALSE;CN=Consent Community 
 Group:mailto:public-consent@w3.org
LOCATION:https://wu-ac-at.zoom.us/j/94768410705?pwd=NzlTbmFhU2dWeVptaWp6cnQ
 reTlSQT09
END:VEVENT
END:VCALENDAR
