BEGIN:VCALENDAR
VERSION:2.0
PRODID:-//Sabre//Sabre VObject 4.5.8//EN
CALSCALE:GREGORIAN
LAST-MODIFIED:20250922T181202Z
BEGIN:VTIMEZONE
TZID:America/Los_Angeles
X-MICROSOFT-CDO-TZID:13
BEGIN:STANDARD
DTSTART:20241103T090000
TZOFFSETFROM:-0700
TZOFFSETTO:-0800
TZNAME:PST
END:STANDARD
BEGIN:STANDARD
DTSTART:20251102T090000
TZOFFSETFROM:-0700
TZOFFSETTO:-0800
TZNAME:PST
END:STANDARD
BEGIN:DAYLIGHT
DTSTART:20250309T100000
TZOFFSETFROM:-0800
TZOFFSETTO:-0700
TZNAME:PDT
END:DAYLIGHT
END:VTIMEZONE
BEGIN:VEVENT
UID:da726ee5-aa1b-443c-8cbd-f2fc78607669
DTSTAMP:20250922T181202Z
SUMMARY:Immersive Web Group Calls
DTSTART;TZID=America/Los_Angeles:20250923T110000
DTEND;TZID=America/Los_Angeles:20250923T120000
DESCRIPTION:https://www.w3.org/events/meetings/da726ee5-aa1b-443c-8cbd-f2fc
 78607669/20250923T110000/\n\nWe do not have any issues for this week\, see
  you all next week.\n\nAgenda: https://github.com/immersive-web/administri
 via/blob/main/meetings/2025/2025-04-23-Immersive_Web_Working_Group_Telecon
 ference-agenda.md\n\nAgenda\n\n### Call Agenda\n\nThis agenda can be viewe
 d and updated on [Github](https://github.com/immersive-web/administrivia/b
 lob/main/meetings/2025/2025-04-23-Immersive_Web_Working_Group_Teleconferen
 ce-agenda.md).\n\nIf you would like to add an item to the agenda or volunt
 eer to scribe please open a pull request against this agenda.\n\n* [model-
 element#95 Managing animation(s)](https://github.com/immersive-web/model-e
 lement/issues/95) [requested by AdaRoseCannon](https://github.com/immersiv
 e-web/model-element/issues/95#issuecomment-2814130049)\n> this would be a 
 good thing to talk about next week\n\n* [model-element#114 Property names 
 camel case](https://github.com/immersive-web/model-element/issues/114) [re
 quested by zachernuk](https://github.com/immersive-web/model-element/issue
 s/114#issuecomment-2819217928)\n> I agree that it's a tension between prop
 erly camel-casing words and the best guidance for HTML attributes. We look
 ed through the full attribute listing at https://developer.mozilla.org/en-
 US/docs/Web/HTML/Reference/Attributes and found that there were a _lot_ of
  multi-word attributes that don't have camel casing\, so we kind of went w
 ith that.\n>\n>One thing that's different about our attributes\, though\, 
 is that we have a number of JS-based attributes and hooks that _relate_ to
  those attributes\, and so that may change our priority. \n>(I believe tha
 t we had been advised to avoid camel-casing from deeper HTML attribute exp
 erts internally\, but am absolutely happy to have a broader discussion abo
 ut this)\n>\n> to discuss the broader ecosystem requirements for attribute
 s\n\n### Immersive Web Working Group Teleconference - 2025-04-23\n\n<table
 >\n<tr><td> San Francisco (U.S.A. - California) <td> Wednesday\, April 23 
 at 12:00 PM PDT\n<tr><td> Boston (U.S.A. - Massachusetts) <td> Wednesday\,
  April 23 at 3:00 PM EDT\n<tr><td> London (United Kingdom - England) <td> 
 Wednesday\, April 23 at 8:00 PM GMT+1\n<tr><td> Paris (France) <td> Wednes
 day\, April 23 at 9:00 PM GMT+2\n<tr><td> Tokyo (Japan) <td> Thursday\, Ap
 ril 24 at 4:00 AM GMT+9\n<tr><td> Corresponding UTC (GMT) <td> Wednesday\,
  April 23 at 7:00 PM UTC\n</table>\n\n### Logistics\n\nChair: Ada Rose Can
 non\n\nScribe:\n\nIRC: [irc.w3.org](https://irc.w3.org/):6667 #immersive-w
 eb [Instructions](https://github.com/immersive-web/administrivia/blob/main
 /IRC.md)\n\nCall Details can be found in the Immersive Web Event Calendars
 : [WG](https://www.w3.org/groups/wg/immersive-web/calendar/)/[CG](https://
 www.w3.org/groups/cg/immersive-web/calendar/)\n\nYou subscribe to these ca
 lendars with your calendar application of choice for more convenient acces
 s to the call details. See details at Export options section in [WG](https
 ://www.w3.org/groups/wg/immersive-web/calendar/#export)/[CG](https://www.w
 3.org/groups/cg/immersive-web/calendar/#export).\n\nIf you are unable to l
 ogin to view the call details please ask on the IRC before the call.\n\n##
 # Help Wanted\n\nHere are some issues which are good issues to get involve
 d in\, if you have taken responsibility for one leave a comment in the iss
 ue:\n\n- [webvr-polyfill-dpdb#34 Create a helper script/web page for gener
 ating values for a new device](https://github.com/immersive-web/webvr-poly
 fill-dpdb/issues/34)\n- [webxr-input-profiles#69 Resizing the window chang
 es the model viewer's aspect ratio](https://github.com/immersive-web/webxr
 -input-profiles/issues/69) [<small>[Future]</small>](https://api.github.co
 m/repos/immersive-web/webxr-input-profiles/milestones/4)\n- [webxr#953 Typ
 escript definitions](https://github.com/immersive-web/webxr/issues/953) [<
 small>[Pre-REC]</small>](https://api.github.com/repos/immersive-web/webxr/
 milestones/16)\n- [webxr#1115 Explicitly spec when inline animation frame 
 loops are suspended](https://github.com/immersive-web/webxr/issues/1115) [
 <small>[Pre-REC]</small>](https://api.github.com/repos/immersive-web/webxr
 /milestones/16)\n- [proposals#82 Some sort of local shared space](https://
 github.com/immersive-web/proposals/issues/82)
STATUS:CANCELLED
CREATED:20250922T181158Z
LAST-MODIFIED:20250922T181202Z
SEQUENCE:3
ORGANIZER;CN=W3C Calendar;PARTSTAT=ACCEPTED;ROLE=NON-PARTICIPANT:mailto:nor
 eply@w3.org
ATTENDEE;CUTYPE=GROUP;ROLE=OPT-PARTICIPANT;RSVP=FALSE;CN=Immersive Web Comm
 unity Group:mailto:public-immersive-web@w3.org
ATTENDEE;CUTYPE=GROUP;ROLE=OPT-PARTICIPANT;RSVP=FALSE;CN=Immersive Web Work
 ing Group:mailto:public-immersive-web-wg@w3.org
RECURRENCE-ID;TZID=America/Los_Angeles:20250923T110000
END:VEVENT
END:VCALENDAR
